BEGIN:VCALENDAR
PRODID:NingEventWidget-v1
VERSION:2.0
METHOD:PUBLISH
BEGIN:VTIMEZONE
TZID:America/Chicago
X-LIC-LOCATION:America/Chicago
BEGIN:DAYLIGHT
TZOFFSETFROM:-0600
TZOFFSETTO:-0500
TZNAME:CDT
DTSTART:19700308T020000
RRULE:FREQ=YEARLY;BYMONTH=3;BYDAY=2SU
END:DAYLIGHT
BEGIN:STANDARD
TZOFFSETFROM:-0500
TZOFFSETTO:-0600
TZNAME:CST
DTSTART:19701101T020000
RRULE:FREQ=YEARLY;BYMONTH=11;BYDAY=1SU
END:STANDARD
END:VTIMEZONE
BEGIN:VEVENT
UID:6398453:Event:115869
DTSTAMP:20260423T151559Z
SUMMARY:2012 Special Olympic Plane Pull
DESCRIPTION:The UPS Plane Pull presented by ResCare is an exciting eve
 nt to help support Special Olympics athletes. Teams of 20 sign up in a
 dvance of the event, then must raise a minimum of $1,000 (or $50 for e
 ach team member) to participate. On the day of the event teams take th
 eir turn to see who can pull a massive 147,000-pound UPS Boeing 757 ca
 rgo plane 12 feet in the shortest time. Winners are crowned in men's, 
 women's and co-ed divisions and there are additional prizes for the To
 p Individual Fundraiser and Top Fundraising Team as well for team spir
 it and best team Plane Pull T-shirt. All proceeds benefit Special Olym
 pics Kentucky athletes.\n\nFor more information visit http://myhangarc
 hat.com/events/2012-special-olympic-plane-pull
DTSTART;TZID=America/Chicago:20120929T090000
DTEND;TZID=America/Chicago:20120929T150000
CATEGORIES:fundraiser
LOCATION:Atlantic Aviation- SDF
WEBSITE:http://soky.kintera.org/faf/home/default.asp?ievent=1031847&li
 s=1&kntae1031847=1452683A22A34944943DEBA03EE7DBF4&login=t
URL:http://soky.kintera.org/faf/home/default.asp?ievent=1031847&lis=1&
 kntae1031847=1452683A22A34944943DEBA03EE7DBF4&login=t
CONTACT:502-456-3934
ORGANIZER;CN="Neosha Miller":http://myhangarchat.com/profile/NeoshaMil
 ler
ATTACH;FMTTYPE="image/jpeg":http://storage.ning.com/topology/rest/1.0/
 file/get/1688389944?profile=original
ATTENDEE;ROLE=REQ-PARTICIPANT;PARTSTAT=ACCEPTED;RSVP=TRUE;CN="Neosha M
 iller":http://myhangarchat.com/profile/NeoshaMiller
END:VEVENT
END:VCALENDAR
