BEGIN:VCALENDAR
PRODID:NingEventWidget-v1
VERSION:2.0
METHOD:PUBLISH
BEGIN:VTIMEZONE
TZID:America/Chicago
X-LIC-LOCATION:America/Chicago
BEGIN:DAYLIGHT
TZOFFSETFROM:-0600
TZOFFSETTO:-0500
TZNAME:CDT
DTSTART:19700308T020000
RRULE:FREQ=YEARLY;BYMONTH=3;BYDAY=2SU
END:DAYLIGHT
BEGIN:STANDARD
TZOFFSETFROM:-0500
TZOFFSETTO:-0600
TZNAME:CST
DTSTART:19701101T020000
RRULE:FREQ=YEARLY;BYMONTH=11;BYDAY=1SU
END:STANDARD
END:VTIMEZONE
BEGIN:VEVENT
UID:6398453:Event:122627
DTSTAMP:20260422T081206Z
SUMMARY:3rd Annual Sport Pilot Fly-In to the Bahamas
DESCRIPTION:Aviators Hot Line 3rd Annual Sport Pilot Fly-In to the Bah
 amas - \nTrade those winter blues for the blue sky and blue waters of
  the Bahama's!  To register online, click the link below or call Penn
 y at (515) 574-2220 or emailpenny@aviatorshotline.com.\n\nFor more inf
 ormation visit http://myhangarchat.com/events/2013-bahamas-fly-in
DTSTART;TZID=America/Chicago:20130120T000000
DTEND;TZID=America/Chicago:20130124T235900
CATEGORIES:fly-in
LOCATION:Bahamas
WEBSITE:http://www.aviatorshotline.com/content/2013-bahamas-fly
URL:http://www.aviatorshotline.com/content/2013-bahamas-fly
CONTACT:(515) 574-2220
ORGANIZER;CN="Penny Lewis":http://myhangarchat.com/profile/PennyLewis7
 87
ATTACH;FMTTYPE="image/jpeg":
ATTENDEE;ROLE=REQ-PARTICIPANT;PARTSTAT=ACCEPTED;RSVP=TRUE;CN="Jacob Pe
 ed":http://myhangarchat.com/profile/JacobPeed
ATTENDEE;ROLE=REQ-PARTICIPANT;PARTSTAT=ACCEPTED;RSVP=TRUE;CN="Penny Le
 wis":http://myhangarchat.com/profile/PennyLewis787
END:VEVENT
END:VCALENDAR
