BEGIN:VCALENDAR
PRODID:NingEventWidget-v1
VERSION:2.0
METHOD:PUBLISH
BEGIN:VTIMEZONE
TZID:America/Chicago
X-LIC-LOCATION:America/Chicago
BEGIN:DAYLIGHT
TZOFFSETFROM:-0600
TZOFFSETTO:-0500
TZNAME:CDT
DTSTART:19700308T020000
RRULE:FREQ=YEARLY;BYMONTH=3;BYDAY=2SU
END:DAYLIGHT
BEGIN:STANDARD
TZOFFSETFROM:-0500
TZOFFSETTO:-0600
TZNAME:CST
DTSTART:19701101T020000
RRULE:FREQ=YEARLY;BYMONTH=11;BYDAY=1SU
END:STANDARD
END:VTIMEZONE
BEGIN:VEVENT
UID:6398453:Event:115210
DTSTAMP:20260423T060325Z
SUMMARY:Alabama Branch Tournament of Angels
DESCRIPTION:Angel Flight Alabama Branch's 1st Annual Golf Tournament 
 is in full swing for 2012, thanks to the generosity of Angels like you
 ! Tee up for our 1st Annual AlabamaTournament of Angels, sponsored byD
 CH Health System, and support Angel Flight. This means every shot you 
 take helps provide free air transportation to anyone who needs special
 ized medical care. By supporting the tournament, you can help us fly p
 atients from, to and through Georgia, Alabama, Mississippi, North Caro
 lina, South Carolina and Tennessee. Be sure to reserve your sponsorshi
 p today. You will never feel more rewarded from supporting a game of g
 olf!\n \nFor more details on sponsorship opportunities, or to registe
 r online visit http://www.angelflightsoars.org/tournament_of_angels_s
 plash.asp\n\nFor more information visit http://myhangarchat.com/events
 /alabama-branch-tournament-of-angels
DTSTART;TZID=America/Chicago:20121023T000000
DTEND;TZID=America/Chicago:20121023T235900
CATEGORIES:golf, tournament
LOCATION:Ol' Colony Golf Complex Tuscaloosa, AL
WEBSITE:
URL:
CONTACT:
ORGANIZER;CN="Angel Flight Soars":http://myhangarchat.com/profile/Ange
 lFlightSoars
ATTACH;FMTTYPE="image/jpeg":http://storage.ning.com/topology/rest/1.0/
 file/get/1688392229?profile=original
ATTENDEE;ROLE=REQ-PARTICIPANT;PARTSTAT=ACCEPTED;RSVP=TRUE;CN="Angel Fl
 ight Soars":http://myhangarchat.com/profile/AngelFlightSoars
END:VEVENT
END:VCALENDAR
