BEGIN:VCALENDAR
PRODID:NingEventWidget-v1
VERSION:2.0
METHOD:PUBLISH
BEGIN:VTIMEZONE
TZID:America/Chicago
X-LIC-LOCATION:America/Chicago
BEGIN:DAYLIGHT
TZOFFSETFROM:-0600
TZOFFSETTO:-0500
TZNAME:CDT
DTSTART:19700308T020000
RRULE:FREQ=YEARLY;BYMONTH=3;BYDAY=2SU
END:DAYLIGHT
BEGIN:STANDARD
TZOFFSETFROM:-0500
TZOFFSETTO:-0600
TZNAME:CST
DTSTART:19701101T020000
RRULE:FREQ=YEARLY;BYMONTH=11;BYDAY=1SU
END:STANDARD
END:VTIMEZONE
BEGIN:VEVENT
UID:6398453:Event:114564
DTSTAMP:20260423T124609Z
SUMMARY:Albuqerque Intl Balloon Fiesta
DESCRIPTION:For nine days in October, the New Mexico skies are painted
  as hundreds of balloons lift off from Albuquerque's Balloon Fiesta Pa
 rk. Nothing rivals the power of Mass Ascension on crisp early mornings
  as these graceful giants leave the ground to take their place in the 
 cerulean desert sky\n\nFor more information visit http://myhangarchat.
 com/events/albuqerque-intl-balloon-fiesta
DTSTART;TZID=America/Chicago:20121006T000000
DTEND;TZID=America/Chicago:20121014T235900
CATEGORIES:intl, balloon, fiesta
LOCATION:Albuquerque NM
WEBSITE:http://www.balloonfiesta.com/guest-guide
URL:http://www.balloonfiesta.com/guest-guide
CONTACT:407-719-6335
ORGANIZER;CN="Obie S. Young":http://myhangarchat.com/profile/ObieSYoun
 g
ATTACH;FMTTYPE="image/jpeg":http://storage.ning.com/topology/rest/1.0/
 file/get/1688388645?profile=original
ATTENDEE;ROLE=REQ-PARTICIPANT;PARTSTAT=ACCEPTED;RSVP=TRUE;CN="Bill Car
 penter":http://myhangarchat.com/profile/BillCarpenter
ATTENDEE;ROLE=REQ-PARTICIPANT;PARTSTAT=ACCEPTED;RSVP=TRUE;CN="Obie S. 
 Young":http://myhangarchat.com/profile/ObieSYoung
END:VEVENT
END:VCALENDAR
