BEGIN:VCALENDAR
PRODID:NingEventWidget-v1
VERSION:2.0
METHOD:PUBLISH
BEGIN:VTIMEZONE
TZID:America/Chicago
X-LIC-LOCATION:America/Chicago
BEGIN:DAYLIGHT
TZOFFSETFROM:-0600
TZOFFSETTO:-0500
TZNAME:CDT
DTSTART:19700308T020000
RRULE:FREQ=YEARLY;BYMONTH=3;BYDAY=2SU
END:DAYLIGHT
BEGIN:STANDARD
TZOFFSETFROM:-0500
TZOFFSETTO:-0600
TZNAME:CST
DTSTART:19701101T020000
RRULE:FREQ=YEARLY;BYMONTH=11;BYDAY=1SU
END:STANDARD
END:VTIMEZONE
BEGIN:VEVENT
UID:6398453:Event:119538
DTSTAMP:20260422T224222Z
SUMMARY:Angel Flight Southeast Pilot Awards,  Pairing Party &  16th An
 nual Golf Tournament
DESCRIPTION:Angel Flight's biggest event of the year is coming up! \n
 Even if you can't make it, you can still help by purchasing raffle tic
 kets for the helicopter ball drop here:\nhttp://ning.it/RSgAv5\nThank 
 you!\n\nFor more information visit http://myhangarchat.com/events/ange
 l-flight-southeast-pilot-awards-pairing-party-16th-annual
DTSTART;TZID=America/Chicago:20121111T170000
DTEND;TZID=America/Chicago:20121112T140000
CATEGORIES:pilot, awards, pairing, party, "&", 16th, annual, golf, tou
 rnament
LOCATION:Leesburg, FL 34788
WEBSITE:
URL:
CONTACT:
ORGANIZER;CN="Steve Purello":http://myhangarchat.com/profile/StevePure
 llo
ATTACH;FMTTYPE="image/jpeg":http://storage.ning.com/topology/rest/1.0/
 file/get/1688395038?profile=original
ATTENDEE;ROLE=REQ-PARTICIPANT;PARTSTAT=ACCEPTED;RSVP=TRUE;CN="Bill Car
 penter":http://myhangarchat.com/profile/BillCarpenter
ATTENDEE;ROLE=REQ-PARTICIPANT;PARTSTAT=ACCEPTED;RSVP=TRUE;CN="Steve Pu
 rello":http://myhangarchat.com/profile/StevePurello
END:VEVENT
END:VCALENDAR
