BEGIN:VCALENDAR
PRODID:NingEventWidget-v1
VERSION:2.0
METHOD:PUBLISH
BEGIN:VTIMEZONE
TZID:America/Chicago
X-LIC-LOCATION:America/Chicago
BEGIN:DAYLIGHT
TZOFFSETFROM:-0600
TZOFFSETTO:-0500
TZNAME:CDT
DTSTART:19700308T020000
RRULE:FREQ=YEARLY;BYMONTH=3;BYDAY=2SU
END:DAYLIGHT
BEGIN:STANDARD
TZOFFSETFROM:-0500
TZOFFSETTO:-0600
TZNAME:CST
DTSTART:19701101T020000
RRULE:FREQ=YEARLY;BYMONTH=11;BYDAY=1SU
END:STANDARD
END:VTIMEZONE
BEGIN:VEVENT
UID:6398453:Event:26125
DTSTAMP:20260421T034826Z
SUMMARY:Annual Corporate Seminar
DESCRIPTION:This event will focus on importat areas for pilots, mechan
 ics, and other personnel within the corporate flight environment, howe
 ver should contain something for everyone.  Join host Don Luehm, with
  Flight Safety International at the annual event at the FAA National R
 esource Center in the SUN 'n FUN complex Lakeland Linder Regional Airp
 ort Lakeland, Florida. Presentors include: Dennis Whitley - Airspace R
 eview, Karen Dunbar - Stress and Pilot Duties / Fatigue, Rich Weber - 
 Approach Lighting Systems & Landing Considerations, and much more.  D
 oors open at 0800.\n\nFor more information visit http://myhangarchat.c
 om/events/annual-corporate-seminar
DTSTART;TZID=America/Chicago:20110806T090000
DTEND;TZID=America/Chicago:20110806T143000
CATEGORIES:safety, seminar
LOCATION:FAA Production Studios , NRC , Lakeland, Fl
WEBSITE:http://www.faaproductionstudios.com
URL:http://www.faaproductionstudios.com
CONTACT:407-719-6335
ORGANIZER;CN="Obie S. Young":http://myhangarchat.com/profile/ObieSYoun
 g
ATTACH;FMTTYPE="image/jpeg":http://storage.ning.com/topology/rest/1.0/
 file/get/1688343161?profile=original
ATTENDEE;ROLE=REQ-PARTICIPANT;PARTSTAT=ACCEPTED;RSVP=TRUE;CN="Joshua M
 iller":http://myhangarchat.com/profile/joshuamiller
ATTENDEE;ROLE=REQ-PARTICIPANT;PARTSTAT=ACCEPTED;RSVP=TRUE;CN="Obie S. 
 Young":http://myhangarchat.com/profile/ObieSYoung
END:VEVENT
END:VCALENDAR
