BEGIN:VCALENDAR
PRODID:NingEventWidget-v1
VERSION:2.0
METHOD:PUBLISH
BEGIN:VTIMEZONE
TZID:America/Chicago
X-LIC-LOCATION:America/Chicago
BEGIN:DAYLIGHT
TZOFFSETFROM:-0600
TZOFFSETTO:-0500
TZNAME:CDT
DTSTART:19700308T020000
RRULE:FREQ=YEARLY;BYMONTH=3;BYDAY=2SU
END:DAYLIGHT
BEGIN:STANDARD
TZOFFSETFROM:-0500
TZOFFSETTO:-0600
TZNAME:CST
DTSTART:19701101T020000
RRULE:FREQ=YEARLY;BYMONTH=11;BYDAY=1SU
END:STANDARD
END:VTIMEZONE
BEGIN:VEVENT
UID:6398453:Event:114823
DTSTAMP:20260423T101226Z
SUMMARY:AOPA Aviation Summit
DESCRIPTION:At the AOPA Summit Some of the exciting new experiences yo
 u can look forward to include: Interactive education, roundtable discu
 ssions, training opportunities, and peer–to–peer learning Flights 
 in a tailwheel, warbird and more..\n\nFor more information visit http:
 //myhangarchat.com/events/aopa-aviation-summit-1
DTSTART;TZID=America/Chicago:20121011T000000
DTEND;TZID=America/Chicago:20121013T235900
CATEGORIES:aopa
LOCATION:Palm Spring, Calif.
WEBSITE:http://www.aopa.org/summit/
URL:http://www.aopa.org/summit/
CONTACT:407-719-6335
ORGANIZER;CN="Obie S. Young":http://myhangarchat.com/profile/ObieSYoun
 g
ATTACH;FMTTYPE="image/jpeg":http://storage.ning.com/topology/rest/1.0/
 file/get/1688386637?profile=original
ATTENDEE;ROLE=REQ-PARTICIPANT;PARTSTAT=ACCEPTED;RSVP=TRUE;CN="Obie S. 
 Young":http://myhangarchat.com/profile/ObieSYoung
END:VEVENT
END:VCALENDAR
