BEGIN:VCALENDAR
PRODID:NingEventWidget-v1
VERSION:2.0
METHOD:PUBLISH
BEGIN:VTIMEZONE
TZID:America/Chicago
X-LIC-LOCATION:America/Chicago
BEGIN:DAYLIGHT
TZOFFSETFROM:-0600
TZOFFSETTO:-0500
TZNAME:CDT
DTSTART:19700308T020000
RRULE:FREQ=YEARLY;BYMONTH=3;BYDAY=2SU
END:DAYLIGHT
BEGIN:STANDARD
TZOFFSETFROM:-0500
TZOFFSETTO:-0600
TZNAME:CST
DTSTART:19701101T020000
RRULE:FREQ=YEARLY;BYMONTH=11;BYDAY=1SU
END:STANDARD
END:VTIMEZONE
BEGIN:VEVENT
UID:6398453:Event:126573
DTSTAMP:20260421T185005Z
SUMMARY:Beyond the Battlefield
DESCRIPTION:Hear first hand accounts from an elite panel whose wartime
  experience prepared them to lead a life of leadership. In this sympos
 ium we honor a few who took their harrowing experiences and continued 
 to succeed over adversity; embracing every opportunity to inspire othe
 rs. Come hear their tales of triumph.The symposium speakers appear twi
 ce each day and the symposium is included in your general admission ti
 cket.\n\nFor more information visit http://myhangarchat.com/events/bey
 ond-the-battlefield
DTSTART;TZID=America/Chicago:20130308T100000
DTEND;TZID=America/Chicago:20130309T170000
CATEGORIES:symposium
LOCATION:Fantasy of Flight
WEBSITE:
URL:
CONTACT:
ORGANIZER;CN="Fantasy of Flight":http://myhangarchat.com/profile/Fanta
 syofFlight
ATTACH;FMTTYPE="image/jpeg":http://storage.ning.com/topology/rest/1.0/
 file/get/1688398488?profile=original
ATTENDEE;ROLE=REQ-PARTICIPANT;PARTSTAT=ACCEPTED;RSVP=TRUE;CN="Fantasy 
 of Flight":http://myhangarchat.com/profile/FantasyofFlight
END:VEVENT
END:VCALENDAR
