BEGIN:VCALENDAR
PRODID:NingEventWidget-v1
VERSION:2.0
METHOD:PUBLISH
BEGIN:VTIMEZONE
TZID:America/Chicago
X-LIC-LOCATION:America/Chicago
BEGIN:DAYLIGHT
TZOFFSETFROM:-0600
TZOFFSETTO:-0500
TZNAME:CDT
DTSTART:19700308T020000
RRULE:FREQ=YEARLY;BYMONTH=3;BYDAY=2SU
END:DAYLIGHT
BEGIN:STANDARD
TZOFFSETFROM:-0500
TZOFFSETTO:-0600
TZNAME:CST
DTSTART:19701101T020000
RRULE:FREQ=YEARLY;BYMONTH=11;BYDAY=1SU
END:STANDARD
END:VTIMEZONE
BEGIN:VEVENT
UID:6398453:Event:121625
DTSTAMP:20260422T034644Z
SUMMARY:Blind Poker Run
DESCRIPTION:This is held at KVDF at the FBO at Leading Edge Aviation. 
 This event is $10.00, going into the pot, and someone holding the winn
 ing hand will win! There is a free lunch, provided by Leading Edge Avi
 ation.\nContact Leon Adelstone at PokerRun175@aol.com for more informa
 tion and to let us know you are coming. Hope to see you there!\n \nBe
  there to register from 9-10 am\n\nFor more information visit http://m
 yhangarchat.com/events/blind-poker-run
DTSTART;TZID=America/Chicago:20130209T100000
DTEND;TZID=America/Chicago:20130209T120000
CATEGORIES:blind, poker, run
LOCATION:FBO at KVDF
WEBSITE:http://pokerrun.weebly.com/
URL:http://pokerrun.weebly.com/
CONTACT:813-264-7827
ORGANIZER:Leon Adelstone
ATTACH;FMTTYPE="image/jpeg":
ATTENDEE;ROLE=REQ-PARTICIPANT;PARTSTAT=ACCEPTED;RSVP=TRUE;CN="Bill Car
 penter":http://myhangarchat.com/profile/BillCarpenter
ATTENDEE;ROLE=REQ-PARTICIPANT;PARTSTAT=ACCEPTED;RSVP=TRUE;CN="Ginger A
 delstone":http://myhangarchat.com/profile/GingerAdelstone
END:VEVENT
END:VCALENDAR
