BEGIN:VCALENDAR
PRODID:NingEventWidget-v1
VERSION:2.0
METHOD:PUBLISH
BEGIN:VTIMEZONE
TZID:America/Chicago
X-LIC-LOCATION:America/Chicago
BEGIN:DAYLIGHT
TZOFFSETFROM:-0600
TZOFFSETTO:-0500
TZNAME:CDT
DTSTART:19700308T020000
RRULE:FREQ=YEARLY;BYMONTH=3;BYDAY=2SU
END:DAYLIGHT
BEGIN:STANDARD
TZOFFSETFROM:-0500
TZOFFSETTO:-0600
TZNAME:CST
DTSTART:19701101T020000
RRULE:FREQ=YEARLY;BYMONTH=11;BYDAY=1SU
END:STANDARD
END:VTIMEZONE
BEGIN:VEVENT
UID:6398453:Event:111226
DTSTAMP:20260424T030110Z
SUMMARY:BUILD TURBINE TIME - $350USD (August 15th)
DESCRIPTION:FIRST TOUR IS ALREADY SOLD! LAST AVAILABLE FERRY FLIGHT! H
 eli Aviation Florida is now looking for a Studentpilot or Pilot for th
 e last Tour, who wants to build turbine time on a ferry flight, depart
 ing in Oregon, through California, Arizona, New Mexico, Texas, Mississ
 ippi, Alabama to Florida (Sarasota). This flight takes about 22-hours 
 with one of our experienced CFI's on the left seat and you as the PIC 
 on the right seat in our brand new Robinson R66 Turbine Helicopter and
  can take maximum 2 days with one overnight. Departure is McMinnville 
 (KMMV) in August 15th! 22-hours Turbine Time for just $350 USD = $7,70
 0 USD Total. Use this great opportunity and get a Mountain Experience 
 and Turbine Transition Endorsement, and lots of flying experience in H
 igh Density Conditions, which is great for your pilot career. Cheaper 
 than any turbine helicopter and Robinson R44! You never get this oppor
 tunity again. LOG 28-HOURS OF... - Pilot-in-Command- Cross-Country - T
 urbine Time - Night Time - Simulated Instrument\n... and get an Endors
 ement for your Training (PPL; CPL; IFR; ATPL; CFII...)! No minimum req
 uirements as a Pilot! You have also the opportunity to do just the hal
 f way of the flight, so you safe money and get also enough experience.
  Departure is Oregon to Colorado and the second step is Colorado to Fl
 orida. This price includes anything and is the lowest turbine price in
  the US right now!! Let us know if you need some informations and we'l
 l send it to you as soon as possible. CONTACT US TODAY: (Nick) +1-503-
 488-0555 info@heliaviation-florida.com www.heliaviation-florida.com ww
 w.facebook.com/HeliAviationFlorida\n\nFor more information visit http:
 //myhangarchat.com/events/build-turbine-time-on-a-ferry-flight
DTSTART;TZID=America/Chicago:20120815T000000
DTEND;TZID=America/Chicago:20120816T235900
CATEGORIES:time, building, turbine, robinson, r66
LOCATION:McMinnville Airport, Oregon (KMMV)
WEBSITE:http://www.facebook.com/HeliAviationFlorida
URL:http://www.facebook.com/HeliAviationFlorida
CONTACT:+1-503-488-0555
ORGANIZER;CN="Heli Aviation Florida, LLC":http://myhangarchat.com/prof
 ile/HeliAviationFlorida
ATTACH;FMTTYPE="image/jpeg":http://storage.ning.com/topology/rest/1.0/
 file/get/1688385840?profile=original
ATTENDEE;ROLE=REQ-PARTICIPANT;PARTSTAT=ACCEPTED;RSVP=TRUE;CN="Bill Car
 penter":http://myhangarchat.com/profile/BillCarpenter
ATTENDEE;ROLE=REQ-PARTICIPANT;PARTSTAT=ACCEPTED;RSVP=TRUE;CN="Heli Avi
 ation Florida, LLC":http://myhangarchat.com/profile/HeliAviationFlorid
 a
END:VEVENT
END:VCALENDAR
