BEGIN:VCALENDAR
PRODID:NingEventWidget-v1
VERSION:2.0
METHOD:PUBLISH
BEGIN:VTIMEZONE
TZID:America/Chicago
X-LIC-LOCATION:America/Chicago
BEGIN:DAYLIGHT
TZOFFSETFROM:-0600
TZOFFSETTO:-0500
TZNAME:CDT
DTSTART:19700308T020000
RRULE:FREQ=YEARLY;BYMONTH=3;BYDAY=2SU
END:DAYLIGHT
BEGIN:STANDARD
TZOFFSETFROM:-0500
TZOFFSETTO:-0600
TZNAME:CST
DTSTART:19701101T020000
RRULE:FREQ=YEARLY;BYMONTH=11;BYDAY=1SU
END:STANDARD
END:VTIMEZONE
BEGIN:VEVENT
UID:6398453:Event:110824
DTSTAMP:20260424T071835Z
SUMMARY:Corporate Aviation Seminar
DESCRIPTION:Who :Â Â Â Â Â  All GA AirmenÂ  & Corporate OperatorsÂ \nW
 hat:Â Â Â Â Â  Corporate Flight Seminar\nÂ Â Â Â Â Â Â Â Â Â Â Â Â Â Â
  Â Over Water Flying -\nÂ Â Â Â Â Â Â Â Â Â Â Â Â Â Â Â Â Â Â Â Â  Â M
 ark Griffin /Bahamas Briefing\nÂ Â Â Â Â Â Â Â Â Â Â Â Â Â  Â Survival
  In Florida -\nÂ Â Â Â Â Â Â Â Â Â Â Â Â Â Â Â Â Â Â Â Â Â  Randy Boon
 eÂ  Fri Pool Demo & Sat Follow Up\nÂ Â Â Â Â Â Â Â Â Â Â Â Â Â Â Â Sea
 rch & Rescue -\nÂ Â Â Â Â Â Â Â Â Â Â Â Â Â Â Â Â Â Â Â Â  Â CAP\nÂ Â 
 Â Â Â Â Â Â Â Â Â Â Â  New Technology -Â \nÂ Â Â Â Â Â Â Â Â Â Â Â Â Â
  Â Â Â Â Â Â Â Â Ed Comisky & KeithÂ WynsmaÂ Â Â Â Â Â Â Â Â Â Â Â Â Â
  Â Â Â Â Â Â Â Â Â Â Â Â Â Â \nWhen:Â  Saturday Aug 4th 9:00 -12:00 (T
 entative Times)\nÂ Â Â Â Â Â Â Â Â Â Â Â  Friday Night Networking and 
 Survival Demo at the\nÂ Â Â Â Â Â Â Â Â  Â Â  Marriott Courtyard Pools
 ide 5-7Â Â Â Â Â Â Â Â Â Â \nWhere:Â Â Orlando, Florida (Host FBO Show
 alter)\n\nÂ Â Â Â Â Â Â Â Â Â Â Â Â Â  Special Overnight Lodging at Ma
 rriott Courtyard,\nÂ Â Â Â Â Â Â Â Â Â Â Â Â Â Â 730 North Magnolia Av
 e, Orlando, Florida 32803\nÂ Â Â Â Â Â Â Â Â Â Â Â Â Â  $89/ include p
 arking & breakfastÂ  - Say\nÂ Â Â Â Â Â Â Â Â Â Â Â Â  Showalter Corpo
 rate Aviation Event.\nÂ Â Â Â Â Â Â Â Â Â Â Â Â  Â 407-996-1000\nÂ Â Â
  Â Â Â Â Â Â Â Â Â Â Â Â  Location: http://orlandocourtyarddowntown.co
 m/location\n\\nÂ Â Â  Saturday Briefings will take place at:\nÂ Â  Â S
 howalterÂ Aviation Large Conference Room\nÂ Â Â Â 400 Herndon Avenue, 
 Orlando, Fl 32803\nÂ Â Â  407-894-7331\nÂ Â Â Â Official Bahamas Gatew
 ay FBO :\nÂ Â Â Â  http://www.showalter.com/bahamas/\n Why:Â  Improve 
 knowledge for Safety of Flight -\nÂ Â Â Â Â Â Â Â Â  Â Have Fun and Le
 arn\n\nFor more information visit http://myhangarchat.com/events/corpo
 rate-aviation-seminar
DTSTART;TZID=America/Chicago:20120804T090000
DTEND;TZID=America/Chicago:20120804T120000
CATEGORIES:corporate, safety, -, for, all, pilots
LOCATION:Showalter Aviation, Orlando Ex Airport
WEBSITE:
URL:
CONTACT:407-719-6335
ORGANIZER;CN="Obie S. Young":http://myhangarchat.com/profile/ObieSYoun
 g
ATTACH;FMTTYPE="image/jpeg":http://storage.ning.com/topology/rest/1.0/
 file/get/1688388291?profile=original
ATTENDEE;ROLE=REQ-PARTICIPANT;PARTSTAT=ACCEPTED;RSVP=TRUE;CN="Bill Car
 penter":http://myhangarchat.com/profile/BillCarpenter
ATTENDEE;ROLE=REQ-PARTICIPANT;PARTSTAT=ACCEPTED;RSVP=TRUE;CN="Obie S. 
 Young":http://myhangarchat.com/profile/ObieSYoung
END:VEVENT
END:VCALENDAR
