BEGIN:VCALENDAR
PRODID:NingEventWidget-v1
VERSION:2.0
METHOD:PUBLISH
BEGIN:VTIMEZONE
TZID:America/Chicago
X-LIC-LOCATION:America/Chicago
BEGIN:DAYLIGHT
TZOFFSETFROM:-0600
TZOFFSETTO:-0500
TZNAME:CDT
DTSTART:19700308T020000
RRULE:FREQ=YEARLY;BYMONTH=3;BYDAY=2SU
END:DAYLIGHT
BEGIN:STANDARD
TZOFFSETFROM:-0500
TZOFFSETTO:-0600
TZNAME:CST
DTSTART:19701101T020000
RRULE:FREQ=YEARLY;BYMONTH=11;BYDAY=1SU
END:STANDARD
END:VTIMEZONE
BEGIN:VEVENT
UID:6398453:Event:118847
DTSTAMP:20260422T105742Z
SUMMARY:EAA 175 Eagle Flights
DESCRIPTION:We are having an Eagle Flights on 01/12/2013 for non Avi
 ator friends so they can have some free flights. Come join us with you
 r pilots and planes, and have a great time indroducing them to the wor
 ld of flight! Their dream of flying can still come true!\nLocated at t
 he south end of the airport at KVDF in Tampa.  \n \n\nFor more infor
 mation visit http://myhangarchat.com/events/eaa-175-eagle-flights-and-
 open-house
DTSTART;TZID=America/Chicago:20130112T100000
DTEND;TZID=America/Chicago:20130112T120000
CATEGORIES:"eagle flights"
LOCATION:Tampa Executive Airport
WEBSITE:
URL:
CONTACT:813-264-7827
ORGANIZER;CN="Ginger Adelstone":http://myhangarchat.com/profile/Ginger
 Adelstone
ATTACH;FMTTYPE="image/jpeg":
ATTENDEE;ROLE=REQ-PARTICIPANT;PARTSTAT=ACCEPTED;RSVP=TRUE;CN="Ginger A
 delstone":http://myhangarchat.com/profile/GingerAdelstone
END:VEVENT
END:VCALENDAR
