BEGIN:VCALENDAR
PRODID:NingEventWidget-v1
VERSION:2.0
METHOD:PUBLISH
BEGIN:VTIMEZONE
TZID:America/Chicago
X-LIC-LOCATION:America/Chicago
BEGIN:DAYLIGHT
TZOFFSETFROM:-0600
TZOFFSETTO:-0500
TZNAME:CDT
DTSTART:19700308T020000
RRULE:FREQ=YEARLY;BYMONTH=3;BYDAY=2SU
END:DAYLIGHT
BEGIN:STANDARD
TZOFFSETFROM:-0500
TZOFFSETTO:-0600
TZNAME:CST
DTSTART:19701101T020000
RRULE:FREQ=YEARLY;BYMONTH=11;BYDAY=1SU
END:STANDARD
END:VTIMEZONE
BEGIN:VEVENT
UID:6398453:Event:126147
DTSTAMP:20260421T201549Z
SUMMARY:Enhancing Aircrew Performance Conference
DESCRIPTION:The Royal Aeronautical Society Conference\n\nThe 2013 Aero
 space Medicine Symposium will look to provide an overview of the curre
 nt and future developments in enhancing human performance in aviation.
 The one day programme will cover both medical and technical aspects of
  enhancing performance in the cockpit. This will include the use of se
 nsors and other technologies to augment / enhance human perception, an
 d the possible limitations that may be encountered with this approach,
  as well as the optimisation of performance through sleep, pharmaceuti
 cals, exercise and diet. The scope includes military, civilian and spa
 ce flight applications. The Symposium will be followed by the annual 
 Stewart Named Lecture and a networking reception.Continuing Profession
 al Development credits are available. Location: London, UKDate: March
  5th 2013For more info and to register:\nhttp://aerosociety.com/Events
 /Event-List/779/Enhancing-Aircrew-Performance\n\nFor more information 
 visit http://myhangarchat.com/events/enhancing-aircrew-performance-con
 ference
DTSTART;TZID=America/Chicago:20130305T090000
DTEND;TZID=America/Chicago:20130305T170000
CATEGORIES:conference
LOCATION:Royal Aeronautical Society
WEBSITE:
URL:
CONTACT:020776704345
ORGANIZER:Royal Aeronautical Society
ATTACH;FMTTYPE="image/jpeg":http://storage.ning.com/topology/rest/1.0/
 file/get/1688397401?profile=original
ATTENDEE;ROLE=REQ-PARTICIPANT;PARTSTAT=ACCEPTED;RSVP=TRUE;CN="Matt Stu
 bbs":http://myhangarchat.com/profile/MattStubbs
END:VEVENT
END:VCALENDAR
