BEGIN:VCALENDAR
PRODID:NingEventWidget-v1
VERSION:2.0
METHOD:PUBLISH
BEGIN:VTIMEZONE
TZID:America/Chicago
X-LIC-LOCATION:America/Chicago
BEGIN:DAYLIGHT
TZOFFSETFROM:-0600
TZOFFSETTO:-0500
TZNAME:CDT
DTSTART:19700308T020000
RRULE:FREQ=YEARLY;BYMONTH=3;BYDAY=2SU
END:DAYLIGHT
BEGIN:STANDARD
TZOFFSETFROM:-0500
TZOFFSETTO:-0600
TZNAME:CST
DTSTART:19701101T020000
RRULE:FREQ=YEARLY;BYMONTH=11;BYDAY=1SU
END:STANDARD
END:VTIMEZONE
BEGIN:VEVENT
UID:6398453:Event:115610
DTSTAMP:20260423T230048Z
SUMMARY:Louisa County Airshow
DESCRIPTION:A fun family event featuring the Flying Circus Airshow per
 formers who will be thrilling the crowd with their WWII re enactment, 
 wing walking act and other aerial demonstrations. Rides will be availa
 ble (fee) before and after the show.\n\nFor more information visit htt
 p://myhangarchat.com/events/louisa-county-airshow
DTSTART;TZID=America/Chicago:20120901T110000
DTEND;TZID=America/Chicago:20120901T160000
CATEGORIES:air, show
LOCATION:Louisa County Airport, Louisa, Virginia
WEBSITE:
URL:
CONTACT:540-967-0050
ORGANIZER;CN="Bill Fosdick":http://myhangarchat.com/profile/BillFosdic
 k
ATTACH;FMTTYPE="image/jpeg":http://storage.ning.com/topology/rest/1.0/
 file/get/1688390589?profile=original
ATTENDEE;ROLE=REQ-PARTICIPANT;PARTSTAT=ACCEPTED;RSVP=TRUE;CN="Bill Fos
 dick":http://myhangarchat.com/profile/BillFosdick
END:VEVENT
END:VCALENDAR
