BEGIN:VCALENDAR
PRODID:NingEventWidget-v1
VERSION:2.0
METHOD:PUBLISH
BEGIN:VTIMEZONE
TZID:America/Chicago
X-LIC-LOCATION:America/Chicago
BEGIN:DAYLIGHT
TZOFFSETFROM:-0600
TZOFFSETTO:-0500
TZNAME:CDT
DTSTART:19700308T020000
RRULE:FREQ=YEARLY;BYMONTH=3;BYDAY=2SU
END:DAYLIGHT
BEGIN:STANDARD
TZOFFSETFROM:-0500
TZOFFSETTO:-0600
TZNAME:CST
DTSTART:19701101T020000
RRULE:FREQ=YEARLY;BYMONTH=11;BYDAY=1SU
END:STANDARD
END:VTIMEZONE
BEGIN:VEVENT
UID:6398453:Event:175429
DTSTAMP:20260419T093046Z
SUMMARY:Managing Safety #17090401
DESCRIPTION:Managing Safety is a Podcast on demand. It is developed we
 ekly and past show are archived. Go to our studio website at: http://w
 ww.floridaaviationnetwork.com/......... and then click on the \"Managi
 ng Safety\" icon that you want to hear. You may listen to the digital 
 broadcast any time day or night on your computer or portable device. .
 ..... The latest show is #17090401 on 09/04/2017.\nDuring the 2017 SUN
  'n FUN Fly-In and Expo in Lakeland, Florida, FAN Host Diego Alfonso i
 nterviews Mike Zidziunas with the Lakeland Aero Club.\n\nFor more info
 rmation visit http://myhangarchat.com/events/managing-safety-17090401
DTSTART;TZID=America/Chicago:20170904T000000
DTEND;TZID=America/Chicago:20171009T235900
CATEGORIES:w
LOCATION:USA World Wide
WEBSITE:https://www.floridaaviationnetwork.com/managing-safety.html
URL:https://www.floridaaviationnetwork.com/managing-safety.html
CONTACT:4077196335
ORGANIZER;CN="Obie S. Young":http://myhangarchat.com/profile/ObieSYoun
 g
ATTACH;FMTTYPE="image/jpeg":http://storage.ning.com/topology/rest/1.0/
 file/get/1688422315?profile=original
ATTENDEE;ROLE=REQ-PARTICIPANT;PARTSTAT=ACCEPTED;RSVP=TRUE;CN="Obie S. 
 Young":http://myhangarchat.com/profile/ObieSYoung
END:VEVENT
END:VCALENDAR
