BEGIN:VCALENDAR
PRODID:NingEventWidget-v1
VERSION:2.0
METHOD:PUBLISH
BEGIN:VTIMEZONE
TZID:America/Chicago
X-LIC-LOCATION:America/Chicago
BEGIN:DAYLIGHT
TZOFFSETFROM:-0600
TZOFFSETTO:-0500
TZNAME:CDT
DTSTART:19700308T020000
RRULE:FREQ=YEARLY;BYMONTH=3;BYDAY=2SU
END:DAYLIGHT
BEGIN:STANDARD
TZOFFSETFROM:-0500
TZOFFSETTO:-0600
TZNAME:CST
DTSTART:19701101T020000
RRULE:FREQ=YEARLY;BYMONTH=11;BYDAY=1SU
END:STANDARD
END:VTIMEZONE
BEGIN:VEVENT
UID:6398453:Event:177402
DTSTAMP:20260419T115044Z
SUMMARY:Managing Safety #17110601
DESCRIPTION:Managing Safety is a Podcast on demand. It is developed we
 ekly and past show are archived. Go to our studio website at: http://w
 ww.floridaaviationnetwork.com/......... and then click on the \"Managi
 ng Safety\" icon that you want to hear. You may listen to the digital 
 broadcast any time day or night on your computer or portable device. .
 ..... The latest show is #17110601 on 11/06/2017.\nDuring the 2017 SUN
  'n FUN Fly-In and Expo in Lakeland, Florida, FAN Lori Bradner intervi
 ews Angela Leedy.\n \n\nFor more information visit http://myhangarcha
 t.com/events/managing-safety-17110601
DTSTART;TZID=America/Chicago:20171129T000000
DTEND;TZID=America/Chicago:20180102T235900
CATEGORIES:weekly, radio, show
LOCATION:USA World Wide
WEBSITE:https://www.floridaaviationnetwork.com/managing-safety.html
URL:https://www.floridaaviationnetwork.com/managing-safety.html
CONTACT:4077196335
ORGANIZER;CN="Obie S. Young":http://myhangarchat.com/profile/ObieSYoun
 g
ATTACH;FMTTYPE="image/jpeg":http://storage.ning.com/topology/rest/1.0/
 file/get/1688422715?profile=original
ATTENDEE;ROLE=REQ-PARTICIPANT;PARTSTAT=ACCEPTED;RSVP=TRUE;CN="Obie S. 
 Young":http://myhangarchat.com/profile/ObieSYoung
END:VEVENT
END:VCALENDAR
