BEGIN:VCALENDAR
PRODID:NingEventWidget-v1
VERSION:2.0
METHOD:PUBLISH
BEGIN:VTIMEZONE
TZID:America/Chicago
X-LIC-LOCATION:America/Chicago
BEGIN:DAYLIGHT
TZOFFSETFROM:-0600
TZOFFSETTO:-0500
TZNAME:CDT
DTSTART:19700308T020000
RRULE:FREQ=YEARLY;BYMONTH=3;BYDAY=2SU
END:DAYLIGHT
BEGIN:STANDARD
TZOFFSETFROM:-0500
TZOFFSETTO:-0600
TZNAME:CST
DTSTART:19701101T020000
RRULE:FREQ=YEARLY;BYMONTH=11;BYDAY=1SU
END:STANDARD
END:VTIMEZONE
BEGIN:VEVENT
UID:6398453:Event:177413
DTSTAMP:20260419T131754Z
SUMMARY:Managing Safety #17121101
DESCRIPTION:Managing Safety is a Podcast on demand. It is developed we
 ekly and past show are archived. Go to our studio website at: http://
 www.floridaaviationnetwork.com/......... and then click on the \"Manag
 ing Safety\" icon that you want to hear. You may listen to the digital
  broadcast any time day or night on your computer or portable device. 
 ...... The latest show is #17121101 on 12/11/2017.\nDuring the 2017 SU
 N 'n FUN Fly-In and Expo in Lakeland, Florida, FAN Host Ben Coleman  
 interviews Lee Lauderback with Stallion 51.\n\nFor more information vi
 sit http://myhangarchat.com/events/managing-safety-17121101
DTSTART;TZID=America/Chicago:20171205T000000
DTEND;TZID=America/Chicago:20180122T235900
CATEGORIES:weekly, radio, show
LOCATION:USA World Wide
WEBSITE:https://www.floridaaviationnetwork.com/managing-safety.html
URL:https://www.floridaaviationnetwork.com/managing-safety.html
CONTACT:4077196335
ORGANIZER;CN="Obie S. Young":http://myhangarchat.com/profile/ObieSYoun
 g
ATTACH;FMTTYPE="image/jpeg":http://storage.ning.com/topology/rest/1.0/
 file/get/1688423334?profile=original
ATTENDEE;ROLE=REQ-PARTICIPANT;PARTSTAT=ACCEPTED;RSVP=TRUE;CN="Obie S. 
 Young":http://myhangarchat.com/profile/ObieSYoung
END:VEVENT
END:VCALENDAR
