BEGIN:VCALENDAR
PRODID:NingEventWidget-v1
VERSION:2.0
METHOD:PUBLISH
BEGIN:VTIMEZONE
TZID:America/Chicago
X-LIC-LOCATION:America/Chicago
BEGIN:DAYLIGHT
TZOFFSETFROM:-0600
TZOFFSETTO:-0500
TZNAME:CDT
DTSTART:19700308T020000
RRULE:FREQ=YEARLY;BYMONTH=3;BYDAY=2SU
END:DAYLIGHT
BEGIN:STANDARD
TZOFFSETFROM:-0500
TZOFFSETTO:-0600
TZNAME:CST
DTSTART:19701101T020000
RRULE:FREQ=YEARLY;BYMONTH=11;BYDAY=1SU
END:STANDARD
END:VTIMEZONE
BEGIN:VEVENT
UID:6398453:Event:180610
DTSTAMP:20260421T130213Z
SUMMARY:Managing Safety # 18123101
DESCRIPTION:Managing Safety is a Podcast on demand. It is developed we
 ekly and past show are archived. Go to our studio website at: http://
 www.floridaaviationnetwork.com/......... and then click on the \"Manag
 ing Safety\" icon that you want to hear. You may listen to the digital
  broadcast any time day or night on your computer or portable device. 
 ...... The latest show is #18123101 on 12/31/2018.\nDuring the 2018 SU
 N 'n FUN and Expo The Florida Aviation Network was  broadcasting fro
 m the Florida Air Museum . FAN John McLeroy interviewed Eugene Nock 
 with the famous Batcopter. \n\nFor more information visit http://myha
 ngarchat.com/events/managing-safety-18123101
DTSTART;TZID=America/Chicago:20190115T000000
DTEND;TZID=America/Chicago:20190222T235900
CATEGORIES:weekly, radio, show
LOCATION:USA World Wide
WEBSITE:https://www.floridaaviationnetwork.com/managing-safety.html
URL:https://www.floridaaviationnetwork.com/managing-safety.html
CONTACT:14077196335
ORGANIZER;CN="Obie S. Young":http://myhangarchat.com/profile/ObieSYoun
 g
ATTACH;FMTTYPE="image/jpeg":https://storage.ning.com/topology/rest/1.0
 /file/get/772275602?profile=original
ATTENDEE;ROLE=REQ-PARTICIPANT;PARTSTAT=ACCEPTED;RSVP=TRUE;CN="Obie S. 
 Young":http://myhangarchat.com/profile/ObieSYoung
END:VEVENT
END:VCALENDAR
