BEGIN:VCALENDAR
PRODID:NingEventWidget-v1
VERSION:2.0
METHOD:PUBLISH
BEGIN:VTIMEZONE
TZID:America/Chicago
X-LIC-LOCATION:America/Chicago
BEGIN:DAYLIGHT
TZOFFSETFROM:-0600
TZOFFSETTO:-0500
TZNAME:CDT
DTSTART:19700308T020000
RRULE:FREQ=YEARLY;BYMONTH=3;BYDAY=2SU
END:DAYLIGHT
BEGIN:STANDARD
TZOFFSETFROM:-0500
TZOFFSETTO:-0600
TZNAME:CST
DTSTART:19701101T020000
RRULE:FREQ=YEARLY;BYMONTH=11;BYDAY=1SU
END:STANDARD
END:VTIMEZONE
BEGIN:VEVENT
UID:6398453:Event:181007
DTSTAMP:20260421T051124Z
SUMMARY:Managing Safety #19020401
DESCRIPTION:Managing Safety is a Podcast on demand. It is developed we
 ekly and past show are archived. Go to our studio website at: http://
 www.floridaaviationnetwork.com/......... and then click on the \"Manag
 ing Safety\" icon that you want to hear. You may listen to the digital
  broadcast any time day or night on your computer or portable device. 
 ...... The latest show is #19020401 on 02/04/2019.\nDuring the 2018 SU
 N 'n FUN and Expo The Florida Aviation Network was  broadcasting fro
 m the Florida Air Museum . FAN Host John McLeroy interviewed Steve 
 Larmore with Stallion 51.  \n\nFor more information visit http://myh
 angarchat.com/events/managing-safety-19020401
DTSTART;TZID=America/Chicago:20190208T000000
DTEND;TZID=America/Chicago:20190401T235900
CATEGORIES:weekly, radio, show
LOCATION:USA World Wide
WEBSITE:https://www.floridaaviationnetwork.com/managing-safety.html
URL:https://www.floridaaviationnetwork.com/managing-safety.html
CONTACT:14077196335
ORGANIZER;CN="Obie S. Young":http://myhangarchat.com/profile/ObieSYoun
 g
ATTACH;FMTTYPE="image/jpeg":https://storage.ning.com/topology/rest/1.0
 /file/get/1006065664?profile=original
ATTENDEE;ROLE=REQ-PARTICIPANT;PARTSTAT=ACCEPTED;RSVP=TRUE;CN="Obie S. 
 Young":http://myhangarchat.com/profile/ObieSYoung
END:VEVENT
END:VCALENDAR
