BEGIN:VCALENDAR
PRODID:NingEventWidget-v1
VERSION:2.0
METHOD:PUBLISH
BEGIN:VTIMEZONE
TZID:America/Chicago
X-LIC-LOCATION:America/Chicago
BEGIN:DAYLIGHT
TZOFFSETFROM:-0600
TZOFFSETTO:-0500
TZNAME:CDT
DTSTART:19700308T020000
RRULE:FREQ=YEARLY;BYMONTH=3;BYDAY=2SU
END:DAYLIGHT
BEGIN:STANDARD
TZOFFSETFROM:-0500
TZOFFSETTO:-0600
TZNAME:CST
DTSTART:19701101T020000
RRULE:FREQ=YEARLY;BYMONTH=11;BYDAY=1SU
END:STANDARD
END:VTIMEZONE
BEGIN:VEVENT
UID:6398453:Event:181039
DTSTAMP:20260424T143115Z
SUMMARY:Managing Safety #19041501
DESCRIPTION:The Florida Aviation Network broadcast at the Sebring EXPO
  on Jan 25 -27 and have a lot of fun . We introduced some new equipmen
 t and new members to our crew. In this segment host Ron Timmermans int
 erview Jamie Beckett about various events and program that the AOPA is
  involved with in Florida.\n\n\nFor more information visit http://myha
 ngarchat.com/events/managing-safety-19041501
DTSTART;TZID=America/Chicago:20190415T000000
DTEND;TZID=America/Chicago:20190527T235900
CATEGORIES:weekly, radio, show
LOCATION:USA World Wide
WEBSITE:https://www.floridaaviationnetwork.com/managing-safety.html
URL:https://www.floridaaviationnetwork.com/managing-safety.html
CONTACT:14077196335
ORGANIZER;CN="Obie S. Young":http://myhangarchat.com/profile/ObieSYoun
 g
ATTACH;FMTTYPE="image/jpeg":https://storage.ning.com/topology/rest/1.0
 /file/get/1485056149?profile=original
ATTENDEE;ROLE=REQ-PARTICIPANT;PARTSTAT=ACCEPTED;RSVP=TRUE;CN="Obie S. 
 Young":http://myhangarchat.com/profile/ObieSYoung
END:VEVENT
END:VCALENDAR
