BEGIN:VCALENDAR
PRODID:NingEventWidget-v1
VERSION:2.0
METHOD:PUBLISH
BEGIN:VTIMEZONE
TZID:America/Chicago
X-LIC-LOCATION:America/Chicago
BEGIN:DAYLIGHT
TZOFFSETFROM:-0600
TZOFFSETTO:-0500
TZNAME:CDT
DTSTART:19700308T020000
RRULE:FREQ=YEARLY;BYMONTH=3;BYDAY=2SU
END:DAYLIGHT
BEGIN:STANDARD
TZOFFSETFROM:-0500
TZOFFSETTO:-0600
TZNAME:CST
DTSTART:19701101T020000
RRULE:FREQ=YEARLY;BYMONTH=11;BYDAY=1SU
END:STANDARD
END:VTIMEZONE
BEGIN:VEVENT
UID:6398453:Event:135491
DTSTAMP:20260421T152027Z
SUMMARY:Managing Safety - Weekly Aviation Radio Show
DESCRIPTION:Managing SafetyÂ is a Podcast on demand.Â  It is developed
  weekly and past show are archived.Â  Go to our studio website at:Â Â 
 http://www.floridaaviationnetwork.comÂ and then click on theÂ \"Managi
 ng Safety\"Â icon.\nYou may listen to the digital broadcast any time d
 ay or night on your computer or portable device.Â  Click on the blue l
 ine for computer and the iPod icon for digital device. The latest show
  is 08/12/2013Â Managing SafetyÂ number 13081201.\nObie conducts a pho
 ne interview withÂ Bob Jex, ASI with the Orlando FSDO, on the subject 
 ofÂ Energy Management about which he recently spoke at an AOPA Air Saf
 ety Institute Flight Instructor Refresher Course in Orlando, Florida.Â
  \n\nFor more information visit http://myhangarchat.com/events/managin
 g-safety-weekly-aviation-radio-show-135
DTSTART;TZID=America/Chicago:20130812T000000
DTEND;TZID=America/Chicago:20130826T235900
CATEGORIES:weekly, radio, show
LOCATION:USA World Wide Internet
WEBSITE:http://www.floridaaviationnetwork.com/
URL:http://www.floridaaviationnetwork.com/
CONTACT:407-719-6335
ORGANIZER;CN="Obie S. Young":http://myhangarchat.com/profile/ObieSYoun
 g
ATTACH;FMTTYPE="image/jpeg":http://storage.ning.com/topology/rest/1.0/
 file/get/1688403202?profile=original
ATTENDEE;ROLE=REQ-PARTICIPANT;PARTSTAT=ACCEPTED;RSVP=TRUE;CN="Obie S. 
 Young":http://myhangarchat.com/profile/ObieSYoung
END:VEVENT
END:VCALENDAR
