BEGIN:VCALENDAR
PRODID:NingEventWidget-v1
VERSION:2.0
METHOD:PUBLISH
BEGIN:VTIMEZONE
TZID:America/Chicago
X-LIC-LOCATION:America/Chicago
BEGIN:DAYLIGHT
TZOFFSETFROM:-0600
TZOFFSETTO:-0500
TZNAME:CDT
DTSTART:19700308T020000
RRULE:FREQ=YEARLY;BYMONTH=3;BYDAY=2SU
END:DAYLIGHT
BEGIN:STANDARD
TZOFFSETFROM:-0500
TZOFFSETTO:-0600
TZNAME:CST
DTSTART:19701101T020000
RRULE:FREQ=YEARLY;BYMONTH=11;BYDAY=1SU
END:STANDARD
END:VTIMEZONE
BEGIN:VEVENT
UID:6398453:Event:114745
DTSTAMP:20260424T060129Z
SUMMARY:\"Managing Safety\" Weekly Aviation Radio Show
DESCRIPTION:\"Managing Safety\" is a Podcast On Demand. It is develope
 d weekly and past shows are archived. Go to our studio  website at: h
 ttp://faaproductionstudios.com/  and then click on the \"Managing Saf
 ety\" icon in the middle of the page. The latest show may be heard by 
 scrolling to the bottom of the list. You may click on the listed links
  to \"Managing Safety\" digital broadcast any time of day or night on 
 your computer or portable device. Click on the blue link for computer 
 or click on the iPod icon for digital device. \"Managing Safety\" is a
 lso available on iTunes - search in the Podcast general menu or in the
  Aviation Podcast section. The latest is show is 08/06/2012 Managing S
 afety number 12080601.\nAmy Laboda conducts a 2012 EAA AirVenture inte
 rview with Rachel Donald, Aviation Representative for DeLorme, about s
 earch and rescue for light aircraft and DeLorme's inReach solution.\nL
 isten to Managing Safety by just clicking on the icon on the right sid
 e of the HangarChat site\n\nFor more information visit http://myhangar
 chat.com/events/managing-safety-weekly-aviation-radio-show-310
DTSTART;TZID=America/Chicago:20120806T000000
DTEND;TZID=America/Chicago:20120820T235900
CATEGORIES:weekly, aviation, radio, show
LOCATION:USA, World Wide Internet
WEBSITE:http://www:faaproductionstudios.com
URL:http://www:faaproductionstudios.com
CONTACT:407-719-6335
ORGANIZER;CN="Obie S. Young":http://myhangarchat.com/profile/ObieSYoun
 g
ATTACH;FMTTYPE="image/jpeg":http://storage.ning.com/topology/rest/1.0/
 file/get/1688387542?profile=original
ATTENDEE;ROLE=REQ-PARTICIPANT;PARTSTAT=ACCEPTED;RSVP=TRUE;CN="Obie S. 
 Young":http://myhangarchat.com/profile/ObieSYoung
END:VEVENT
END:VCALENDAR
