BEGIN:VCALENDAR
PRODID:NingEventWidget-v1
VERSION:2.0
METHOD:PUBLISH
BEGIN:VTIMEZONE
TZID:America/Chicago
X-LIC-LOCATION:America/Chicago
BEGIN:DAYLIGHT
TZOFFSETFROM:-0600
TZOFFSETTO:-0500
TZNAME:CDT
DTSTART:19700308T020000
RRULE:FREQ=YEARLY;BYMONTH=3;BYDAY=2SU
END:DAYLIGHT
BEGIN:STANDARD
TZOFFSETFROM:-0500
TZOFFSETTO:-0600
TZNAME:CST
DTSTART:19701101T020000
RRULE:FREQ=YEARLY;BYMONTH=11;BYDAY=1SU
END:STANDARD
END:VTIMEZONE
BEGIN:VEVENT
UID:6398453:Event:121812
DTSTAMP:20260422T144456Z
SUMMARY:\"Managing Safety\" Weekly Aviation Radio Show
DESCRIPTION:Managing Safety\" is a Podcast On Demand. It is developed 
 weekly and past shows are archived. Go to our studio  website at: htt
 p://www.floridaaviationnetwork.com/ and then click on the \"Managing S
 afety\" icon in the middle of the page. Or find it on our Florida Avia
 tion Network Facebook Page at http://www.facebook.com/FloridaAviationN
 etwork . The latest show may be heard by scrolling to the bottom of th
 e list. You may click on the listed links to \"Managing Safety\" digit
 al broadcast any time of day or night on your computer or portable dev
 ice. Click on the blue link for computer or click on the iPod icon for
  digital device. \"Managing Safety\" is also available on iTunes.  Th
 e latest is show is 12/17/2012 Managing Safety number 12121701.\nIn th
 is third and final installment of interviews from the floor of NBAA 20
 12 in Orlando FL, Eric Bolves speaks first with Edgar Flores, Sales Ac
 count Manager at EAM Worldwide, about life vests, rafts, and other sur
 vival equipment available for all levels of aviation.  In the second 
 part of this program, Eric and Tom Aniello, Vice President of Marketin
 g at Pilatus Business Aircraft, discuss the PC-12 NG.  Finally, Eric 
 interviews David Noad, General Manager of MT-Propeller, about the mode
 rn wooden propeller.\n\n\nFor more information visit http://myhangarch
 at.com/events/managing-safety-weekly-aviation-radio-show-349
DTSTART;TZID=America/Chicago:20121217T000000
DTEND;TZID=America/Chicago:20121231T235900
CATEGORIES:weekly, aviation, radio, show
LOCATION:USA, World Wide Internet
WEBSITE:http://www.floridaaviationnetwork.com/ & http://www.facebook.c
 om/FloridaAviationNetwork
URL:http://www.floridaaviationnetwork.com/ & http://www.facebook.com/F
 loridaAviationNetwork
CONTACT:407-719-6335
ORGANIZER;CN="Obie S. Young":http://myhangarchat.com/profile/ObieSYoun
 g
ATTACH;FMTTYPE="image/jpeg":http://storage.ning.com/topology/rest/1.0/
 file/get/1688395819?profile=original
ATTENDEE;ROLE=REQ-PARTICIPANT;PARTSTAT=ACCEPTED;RSVP=TRUE;CN="Obie S. 
 Young":http://myhangarchat.com/profile/ObieSYoung
END:VEVENT
END:VCALENDAR
