BEGIN:VCALENDAR
PRODID:NingEventWidget-v1
VERSION:2.0
METHOD:PUBLISH
BEGIN:VTIMEZONE
TZID:America/Chicago
X-LIC-LOCATION:America/Chicago
BEGIN:DAYLIGHT
TZOFFSETFROM:-0600
TZOFFSETTO:-0500
TZNAME:CDT
DTSTART:19700308T020000
RRULE:FREQ=YEARLY;BYMONTH=3;BYDAY=2SU
END:DAYLIGHT
BEGIN:STANDARD
TZOFFSETFROM:-0500
TZOFFSETTO:-0600
TZNAME:CST
DTSTART:19701101T020000
RRULE:FREQ=YEARLY;BYMONTH=11;BYDAY=1SU
END:STANDARD
END:VTIMEZONE
BEGIN:VEVENT
UID:6398453:Event:130686
DTSTAMP:20260421T061733Z
SUMMARY:\"Managing Safety\" Weekly Aviation Radio Show
DESCRIPTION:Managing Safety\" is a Podcast On Demand. It is developed 
 weekly and past shows are archived. Go to our studio  website at: htt
 p://www.floridaaviationnetwork.com/ and then click on the \"Managing S
 afety\" icon in the middle of the page. Or find it on our Florida Avia
 tion Network Facebook Page at http://www.facebook.com/FloridaAviationN
 etwork .  You may click on the listed links to \"Managing Safety\" di
 gital broadcast any time of day or night on your computer or portable 
 device. Click on the blue link for computer or click on the iPod icon 
 for digital device. \"Managing Safety\" is also available on iTunes. 
  The latest is show is 04/29/2013 Managing Safety number 13042901.\nFr
 om the Howard Hughs exhibit in the Florida Air Museum at Sun 'n Fun 20
 13, Rich interviews team members from Think Global Flight.  Captain J
 udy Rice and Navigator Fred Nauer along with International Lead Studen
 t Jessica Seaman and National Lead Student Keith Minerva discuss how t
 his journey around the world promotes STEM education and international
  cooperation.\n \n\nFor more information visit http://myhangarchat.co
 m/events/managing-safety-weekly-aviation-radio-show-405
DTSTART;TZID=America/Chicago:20130429T000000
DTEND;TZID=America/Chicago:20130513T235900
CATEGORIES:weekly, aviation, radio, show
LOCATION:USA, World Wide Internet
WEBSITE:http://www.floridaaviationnetwork.com/  &  http://www.facebook
 .com/FloridaAviationNetwork
URL:http://www.floridaaviationnetwork.com/  &  http://www.facebook.com
 /FloridaAviationNetwork
CONTACT:407-719-6335
ORGANIZER;CN="Obie S. Young":http://myhangarchat.com/profile/ObieSYoun
 g
ATTACH;FMTTYPE="image/jpeg":http://storage.ning.com/topology/rest/1.0/
 file/get/1688401316?profile=original
ATTENDEE;ROLE=REQ-PARTICIPANT;PARTSTAT=ACCEPTED;RSVP=TRUE;CN="Obie S. 
 Young":http://myhangarchat.com/profile/ObieSYoung
END:VEVENT
END:VCALENDAR
