BEGIN:VCALENDAR
PRODID:NingEventWidget-v1
VERSION:2.0
METHOD:PUBLISH
BEGIN:VTIMEZONE
TZID:America/Chicago
X-LIC-LOCATION:America/Chicago
BEGIN:DAYLIGHT
TZOFFSETFROM:-0600
TZOFFSETTO:-0500
TZNAME:CDT
DTSTART:19700308T020000
RRULE:FREQ=YEARLY;BYMONTH=3;BYDAY=2SU
END:DAYLIGHT
BEGIN:STANDARD
TZOFFSETFROM:-0500
TZOFFSETTO:-0600
TZNAME:CST
DTSTART:19701101T020000
RRULE:FREQ=YEARLY;BYMONTH=11;BYDAY=1SU
END:STANDARD
END:VTIMEZONE
BEGIN:VEVENT
UID:6398453:Event:115919
DTSTAMP:20260424T001423Z
SUMMARY:\"Managing Safety\" Weekly Aviation Radio Show
DESCRIPTION:\"Managing Safety\" is a Podcast On Demand. It is develope
 d weekly and past shows are archived. Go to our studio  website at: h
 ttp://faaproductionstudios.com/  and then click on the \"Managing Saf
 ety\" icon in the middle of the page. The latest show may be heard by 
 scrolling to the bottom of the list. You may click on the listed links
  to \"Managing Safety\" digital broadcast any time of day or night on 
 your computer or portable device. Click on the blue link for computer 
 or click on the iPod icon for digital device. \"Managing Safety\" is a
 lso available on iTunes - search in the Podcast general menu or in the
  Aviation Podcast section. The latest is show is 08/27/2012 Managing S
 afety number 12082701.\nObie Young interviews Steve Purello, CEO and V
 olunteer Pilot with Angel Flight Southeast. Angel Flight™ Southeast,
  Inc. is a non-profit volunteer pilot organization involved in “publ
 ic benefit flying.” Angel Flight provides a variety of services to t
 he community, but mostly arranges free air transportation by private a
 ircraft to distant medical facilities when commercial service is not a
 vailable, impractical or simply not affordable.\n \nListen to Managin
 g Safety by just clicking on the icon on the right side of the HangarC
 hat site\n\nFor more information visit http://myhangarchat.com/events/
 managing-safety-weekly-aviation-radio-show-411
DTSTART;TZID=America/Chicago:20120827T000000
DTEND;TZID=America/Chicago:20120910T235900
CATEGORIES:weekly, aviation, radio, show
LOCATION:USA, World Wide Internet
WEBSITE:http://www:faaproductionstudios.com
URL:http://www:faaproductionstudios.com
CONTACT:407-719-6335
ORGANIZER;CN="Obie S. Young":http://myhangarchat.com/profile/ObieSYoun
 g
ATTACH;FMTTYPE="image/jpeg":http://storage.ning.com/topology/rest/1.0/
 file/get/1688391872?profile=original
ATTENDEE;ROLE=REQ-PARTICIPANT;PARTSTAT=ACCEPTED;RSVP=TRUE;CN="Obie S. 
 Young":http://myhangarchat.com/profile/ObieSYoung
END:VEVENT
END:VCALENDAR
