BEGIN:VCALENDAR
PRODID:NingEventWidget-v1
VERSION:2.0
METHOD:PUBLISH
BEGIN:VTIMEZONE
TZID:America/Chicago
X-LIC-LOCATION:America/Chicago
BEGIN:DAYLIGHT
TZOFFSETFROM:-0600
TZOFFSETTO:-0500
TZNAME:CDT
DTSTART:19700308T020000
RRULE:FREQ=YEARLY;BYMONTH=3;BYDAY=2SU
END:DAYLIGHT
BEGIN:STANDARD
TZOFFSETFROM:-0500
TZOFFSETTO:-0600
TZNAME:CST
DTSTART:19701101T020000
RRULE:FREQ=YEARLY;BYMONTH=11;BYDAY=1SU
END:STANDARD
END:VTIMEZONE
BEGIN:VEVENT
UID:6398453:Event:134452
DTSTAMP:20260421T090423Z
SUMMARY:Managing Safety Weekly Aviation Radio Show
DESCRIPTION:Managing Safety is a Podcast on demand.  It is developed 
 weekly and past show are archived.  Go to our studio website at:  ht
 tp://www.floridaaviationnetwork.com and then click on the \"Managing S
 afety\" icon.\nYou may listen to the digital broadcast any time day or
  night on your computer or portable device.  Click on the blue line f
 or computer and the iPod icon for digital device. The latest show is 0
 7/15/2013 Managing Safety number 13071501.\n \nObie Young interviews 
 Nina Anderson -- FAASTeam Representative, founder of aviator networkin
 g website FabulousFlying.com, and author of 17 books on aviation and h
 ealth.  They talk about pilot health and human factors.\n \n \n \n
 \nFor more information visit http://myhangarchat.com/events/managing-s
 afety-weekly-aviation-radio-show-542
DTSTART;TZID=America/Chicago:20130715T000000
DTEND;TZID=America/Chicago:20130729T235900
CATEGORIES:weekly, radio, show
LOCATION:USA World Wide Internet
WEBSITE:http://www.floridaaviationnetwork.com/
URL:http://www.floridaaviationnetwork.com/
CONTACT:407-719-6335
ORGANIZER;CN="Obie S. Young":http://myhangarchat.com/profile/ObieSYoun
 g
ATTACH;FMTTYPE="image/jpeg":http://storage.ning.com/topology/rest/1.0/
 file/get/1688402323?profile=original
ATTENDEE;ROLE=REQ-PARTICIPANT;PARTSTAT=ACCEPTED;RSVP=TRUE;CN="Obie S. 
 Young":http://myhangarchat.com/profile/ObieSYoung
END:VEVENT
END:VCALENDAR
