BEGIN:VCALENDAR
PRODID:NingEventWidget-v1
VERSION:2.0
METHOD:PUBLISH
BEGIN:VTIMEZONE
TZID:America/Chicago
X-LIC-LOCATION:America/Chicago
BEGIN:DAYLIGHT
TZOFFSETFROM:-0600
TZOFFSETTO:-0500
TZNAME:CDT
DTSTART:19700308T020000
RRULE:FREQ=YEARLY;BYMONTH=3;BYDAY=2SU
END:DAYLIGHT
BEGIN:STANDARD
TZOFFSETFROM:-0500
TZOFFSETTO:-0600
TZNAME:CST
DTSTART:19701101T020000
RRULE:FREQ=YEARLY;BYMONTH=11;BYDAY=1SU
END:STANDARD
END:VTIMEZONE
BEGIN:VEVENT
UID:6398453:Event:121663
DTSTAMP:20260422T160710Z
SUMMARY:\"Managing Safety\" Weekly Aviation Radio Show
DESCRIPTION:Managing Safety\" is a Podcast On Demand. It is developed 
 weekly and past shows are archived. Go to our studio  website at: htt
 p://www.floridaaviationnetwork.com/ and then click on the \"Managing S
 afety\" icon in the middle of the page. Or find it on our Florida Avia
 tion Network Facebook Page at http://www.facebook.com/FloridaAviationN
 etwork . The latest show may be heard by scrolling to the bottom of th
 e list. You may click on the listed links to \"Managing Safety\" digit
 al broadcast any time of day or night on your computer or portable dev
 ice. Click on the blue link for computer or click on the iPod icon for
  digital device. \"Managing Safety\" is also available on iTunes.  Th
 e latest is show is 12/10/2012 Managing Safety number 12121001.\nEric 
 Bolves continues a series of interviews from the floor of NBAA 2012 in
  Orlando FL by speaking with Jay Heublein, Vice-President of Sales and
  Marketing for Nextant Aerospace, about the remanufactured 400XT.  In
  the second part of this program, Eric and Dylan Haynie, Regional Vice
  President of Sales at Bombardier Flexjet, discuss modern fractional o
 wnership and other products available from the manufacturer.\n\nFor mo
 re information visit http://myhangarchat.com/events/managing-safety-we
 ekly-aviation-radio-show-607
DTSTART;TZID=America/Chicago:20121210T000000
DTEND;TZID=America/Chicago:20121224T235900
CATEGORIES:weekly, aviation, radio, show
LOCATION:USA, World Wide Internet
WEBSITE:http://www.floridaaviationnetwork.com/ & http://www.facebook.c
 om/FloridaAviationNetwork
URL:http://www.floridaaviationnetwork.com/ & http://www.facebook.com/F
 loridaAviationNetwork
CONTACT:407-719-6335
ORGANIZER;CN="Obie S. Young":http://myhangarchat.com/profile/ObieSYoun
 g
ATTACH;FMTTYPE="image/jpeg":http://storage.ning.com/topology/rest/1.0/
 file/get/1688396714?profile=original
ATTENDEE;ROLE=REQ-PARTICIPANT;PARTSTAT=ACCEPTED;RSVP=TRUE;CN="Obie S. 
 Young":http://myhangarchat.com/profile/ObieSYoung
END:VEVENT
END:VCALENDAR
