BEGIN:VCALENDAR
PRODID:NingEventWidget-v1
VERSION:2.0
METHOD:PUBLISH
BEGIN:VTIMEZONE
TZID:America/Chicago
X-LIC-LOCATION:America/Chicago
BEGIN:DAYLIGHT
TZOFFSETFROM:-0600
TZOFFSETTO:-0500
TZNAME:CDT
DTSTART:19700308T020000
RRULE:FREQ=YEARLY;BYMONTH=3;BYDAY=2SU
END:DAYLIGHT
BEGIN:STANDARD
TZOFFSETFROM:-0500
TZOFFSETTO:-0600
TZNAME:CST
DTSTART:19701101T020000
RRULE:FREQ=YEARLY;BYMONTH=11;BYDAY=1SU
END:STANDARD
END:VTIMEZONE
BEGIN:VEVENT
UID:6398453:Event:124711
DTSTAMP:20260422T023213Z
SUMMARY:\"Managing Safety\" Weekly Aviation Radio Show
DESCRIPTION:Managing Safety\" is a Podcast On Demand. It is developed 
 weekly and past shows are archived. Go to our studio  website at: htt
 p://www.floridaaviationnetwork.com/ and then click on the \"Managing S
 afety\" icon in the middle of the page. Or find it on our Florida Avia
 tion Network Facebook Page at http://www.facebook.com/FloridaAviationN
 etwork .  You may click on the listed links to \"Managing Safety\" di
 gital broadcast any time of day or night on your computer or portable 
 device. Click on the blue link for computer or click on the iPod icon 
 for digital device. \"Managing Safety\" is also available on iTunes. 
  The latest is show is 02/11/2013 Managing Safety number 13021101.\nOb
 ie Young interviews  Tyler Lahnen, Director of Marketing and Public A
 ffairs for Civil Air Patrol's Florida Wing, about the new Florida Wing
  publication \"Wingspan,\" the Wing Conference in March, and the CAP i
 nvolvement in Sun 'n Fun..\n\nFor more information visit http://myhang
 archat.com/events/managing-safety-weekly-aviation-radio-show-661
DTSTART;TZID=America/Chicago:20130211T000000
DTEND;TZID=America/Chicago:20130225T235900
CATEGORIES:weekly, aviation, radio, show
LOCATION:USA, World Wide Internet
WEBSITE:http://www.floridaaviationnetwork.com/
URL:http://www.floridaaviationnetwork.com/
CONTACT:407-719-6335
ORGANIZER;CN="Obie S. Young":http://myhangarchat.com/profile/ObieSYoun
 g
ATTACH;FMTTYPE="image/jpeg":http://storage.ning.com/topology/rest/1.0/
 file/get/1688397738?profile=original
ATTENDEE;ROLE=REQ-PARTICIPANT;PARTSTAT=ACCEPTED;RSVP=TRUE;CN="Douglas 
 A Hoesch":http://myhangarchat.com/profile/DouglasAHoesch
ATTENDEE;ROLE=REQ-PARTICIPANT;PARTSTAT=ACCEPTED;RSVP=TRUE;CN="Ian Marl
 ey":http://myhangarchat.com/profile/IanMarley
ATTENDEE;ROLE=REQ-PARTICIPANT;PARTSTAT=ACCEPTED;RSVP=TRUE;CN="Obie S. 
 Young":http://myhangarchat.com/profile/ObieSYoung
ATTENDEE;ROLE=REQ-PARTICIPANT;PARTSTAT=TENTATIVE;RSVP=TRUE;CN="Karlene
  K Petitt":http://myhangarchat.com/profile/KarleneKPetitt
END:VEVENT
END:VCALENDAR
