BEGIN:VCALENDAR
PRODID:NingEventWidget-v1
VERSION:2.0
METHOD:PUBLISH
BEGIN:VTIMEZONE
TZID:America/Chicago
X-LIC-LOCATION:America/Chicago
BEGIN:DAYLIGHT
TZOFFSETFROM:-0600
TZOFFSETTO:-0500
TZNAME:CDT
DTSTART:19700308T020000
RRULE:FREQ=YEARLY;BYMONTH=3;BYDAY=2SU
END:DAYLIGHT
BEGIN:STANDARD
TZOFFSETFROM:-0500
TZOFFSETTO:-0600
TZNAME:CST
DTSTART:19701101T020000
RRULE:FREQ=YEARLY;BYMONTH=11;BYDAY=1SU
END:STANDARD
END:VTIMEZONE
BEGIN:VEVENT
UID:6398453:Event:126605
DTSTAMP:20260421T215030Z
SUMMARY:\"Managing Safety\" Weekly Aviation Radio Show
DESCRIPTION:Managing Safety\" is a Podcast On Demand. It is developed 
 weekly and past shows are archived. Go to our studio  website at: htt
 p://www.floridaaviationnetwork.com/ and then click on the \"Managing S
 afety\" icon in the middle of the page. Or find it on our Florida Avia
 tion Network Facebook Page at http://www.facebook.com/FloridaAviationN
 etwork .  You may click on the listed links to \"Managing Safety\" di
 gital broadcast any time of day or night on your computer or portable 
 device. Click on the blue link for computer or click on the iPod icon 
 for digital device. \"Managing Safety\" is also available on iTunes. 
  The latest is show is 03/04/2013 Managing Safety number 13030401.\nHo
 st Obie Young and producer for Managing Safety Interviews Diego Alfons
 o, Airline Transport Pilot, Designated Pilot Examiner.  Diego has ove
 r  13,000 hours Flight Instruction to his credit.  Diego will be joi
 ning the Florida Aviation Network with a weekly column that will be pu
 blished every Friday.  The title of the column is “Flight Training 
 Missing Links” and he is planning a video series with that same name
 . If you or your student is about to take a check ride, you really nee
 d to hear what Diego has to say.\n.\n \n\nFor more information visit 
 http://myhangarchat.com/events/managing-safety-weekly-aviation-radio-s
 how-677
DTSTART;TZID=America/Chicago:20130304T000000
DTEND;TZID=America/Chicago:20130318T235900
CATEGORIES:weekly, aviation, radio, show
LOCATION:USA, World Wide Internet
WEBSITE:http://www.floridaaviationnetwork.com/
URL:http://www.floridaaviationnetwork.com/
CONTACT:407-719-6335
ORGANIZER;CN="Obie S. Young":http://myhangarchat.com/profile/ObieSYoun
 g
ATTACH;FMTTYPE="image/jpeg":http://storage.ning.com/topology/rest/1.0/
 file/get/1688398894?profile=original
ATTENDEE;ROLE=REQ-PARTICIPANT;PARTSTAT=ACCEPTED;RSVP=TRUE;CN="Obie S. 
 Young":http://myhangarchat.com/profile/ObieSYoung
END:VEVENT
END:VCALENDAR
