BEGIN:VCALENDAR
PRODID:NingEventWidget-v1
VERSION:2.0
METHOD:PUBLISH
BEGIN:VTIMEZONE
TZID:America/Chicago
X-LIC-LOCATION:America/Chicago
BEGIN:DAYLIGHT
TZOFFSETFROM:-0600
TZOFFSETTO:-0500
TZNAME:CDT
DTSTART:19700308T020000
RRULE:FREQ=YEARLY;BYMONTH=3;BYDAY=2SU
END:DAYLIGHT
BEGIN:STANDARD
TZOFFSETFROM:-0500
TZOFFSETTO:-0600
TZNAME:CST
DTSTART:19701101T020000
RRULE:FREQ=YEARLY;BYMONTH=11;BYDAY=1SU
END:STANDARD
END:VTIMEZONE
BEGIN:VEVENT
UID:6398453:Event:136977
DTSTAMP:20260421T212129Z
SUMMARY:Managing Safety - Weekly Aviation Radio Show
DESCRIPTION:Managing Safety is a Podcast on demand.  It is developed
  weekly and past show are archived.  Go to our studio website at:  
 http://www.floridaaviationnetwork.com and then click on the \"Managi
 ng Safety\" icon.\nYou may listen to the digital broadcast any time d
 ay or night on your computer or portable device.  Click on the blue l
 ine for computer and the iPod icon for digital device. The latest show
  is 09/09/2013 Managing Safety number 13090901.\n \n \n  Host Am
 y Laboda conducts an AirVenture 2013 interview with Sarah Wilson about
  her 'Buddy,' a beautifully restored 1929 Stearman Model 4E Junior Spe
 edmail, and their adventures in modern barnstorming.\n\nFor more infor
 mation visit http://myhangarchat.com/events/managing-safety-weekly-avi
 ation-radio-show-692
DTSTART;TZID=America/Chicago:20130909T000000
DTEND;TZID=America/Chicago:20130923T235900
CATEGORIES:weekly, radio, show
LOCATION:USA World Wide Internet
WEBSITE:http://www.floridaaviationnetwork.com/
URL:http://www.floridaaviationnetwork.com/
CONTACT:407-719-6335
ORGANIZER;CN="Obie S. Young":http://myhangarchat.com/profile/ObieSYoun
 g
ATTACH;FMTTYPE="image/jpeg":http://storage.ning.com/topology/rest/1.0/
 file/get/1688402910?profile=original
ATTENDEE;ROLE=REQ-PARTICIPANT;PARTSTAT=ACCEPTED;RSVP=TRUE;CN="Obie S. 
 Young":http://myhangarchat.com/profile/ObieSYoung
END:VEVENT
END:VCALENDAR
