BEGIN:VCALENDAR
PRODID:NingEventWidget-v1
VERSION:2.0
METHOD:PUBLISH
BEGIN:VTIMEZONE
TZID:America/Chicago
X-LIC-LOCATION:America/Chicago
BEGIN:DAYLIGHT
TZOFFSETFROM:-0600
TZOFFSETTO:-0500
TZNAME:CDT
DTSTART:19700308T020000
RRULE:FREQ=YEARLY;BYMONTH=3;BYDAY=2SU
END:DAYLIGHT
BEGIN:STANDARD
TZOFFSETFROM:-0500
TZOFFSETTO:-0600
TZNAME:CST
DTSTART:19701101T020000
RRULE:FREQ=YEARLY;BYMONTH=11;BYDAY=1SU
END:STANDARD
END:VTIMEZONE
BEGIN:VEVENT
UID:6398453:Event:121527
DTSTAMP:20260422T171701Z
SUMMARY:\"Managing Safety\" Weekly Aviation Radio Show
DESCRIPTION:Managing Safety\" is a Podcast On Demand. It is developed 
 weekly and past shows are archived. Go to our studio  website at: htt
 p://www.floridaaviationnetwork.com/ and then click on the \"Managing S
 afety\" icon in the middle of the page. Or find it on our Florida Avia
 tion Network Facebook Page at http://www.facebook.com/FloridaAviationN
 etwork . The latest show may be heard by scrolling to the bottom of th
 e list. You may click on the listed links to \"Managing Safety\" digit
 al broadcast any time of day or night on your computer or portable dev
 ice. Click on the blue link for computer or click on the iPod icon for
  digital device. \"Managing Safety\" is also available on iTunes.  Th
 e latest is show is 12/03/2012 Managing Safety number 12120301.\nEric 
 Bolves begins a series of interviews from the floor of NBAA 2012 in Or
 lando FL by speaking with Kenneth Maenpa, president of the Colorado Ai
 rport Operators Association, about advancements which have improved sa
 fety in mountainous environments.  In the second part of this program
 , Eric and Randy Schuette, Director of Sales for Air Orlando Sales, In
 c., discuss the Cessna Corvallis TTx as seen at NBAA.\n\n\nFor more in
 formation visit http://myhangarchat.com/events/managing-safety-weekly-
 aviation-radio-show-774
DTSTART;TZID=America/Chicago:20121203T000000
DTEND;TZID=America/Chicago:20121217T235900
CATEGORIES:weekly, aviation, radio, show
LOCATION:USA, World Wide Internet
WEBSITE:http://www:floridaaviationnetwork.com /
URL:http://www:floridaaviationnetwork.com /
CONTACT:407-719-6335
ORGANIZER;CN="Obie S. Young":http://myhangarchat.com/profile/ObieSYoun
 g
ATTACH;FMTTYPE="image/jpeg":http://storage.ning.com/topology/rest/1.0/
 file/get/1688397289?profile=original
ATTENDEE;ROLE=REQ-PARTICIPANT;PARTSTAT=ACCEPTED;RSVP=TRUE;CN="Obie S. 
 Young":http://myhangarchat.com/profile/ObieSYoung
END:VEVENT
END:VCALENDAR
