BEGIN:VCALENDAR
PRODID:NingEventWidget-v1
VERSION:2.0
METHOD:PUBLISH
BEGIN:VTIMEZONE
TZID:America/Chicago
X-LIC-LOCATION:America/Chicago
BEGIN:DAYLIGHT
TZOFFSETFROM:-0600
TZOFFSETTO:-0500
TZNAME:CDT
DTSTART:19700308T020000
RRULE:FREQ=YEARLY;BYMONTH=3;BYDAY=2SU
END:DAYLIGHT
BEGIN:STANDARD
TZOFFSETFROM:-0500
TZOFFSETTO:-0600
TZNAME:CST
DTSTART:19701101T020000
RRULE:FREQ=YEARLY;BYMONTH=11;BYDAY=1SU
END:STANDARD
END:VTIMEZONE
BEGIN:VEVENT
UID:6398453:Event:118467
DTSTAMP:20260423T084559Z
SUMMARY:Managing Safety - Weekly Aviation Radio Show
DESCRIPTION:\"Managing Safety\" is a Podcast On Demand. It is develope
 d weekly and past shows are archived. Go to our studio  website at: h
 ttp://faaproductionstudios.com/  and then click on the \"Managing Saf
 ety\" icon in the middle of the page. Or find it on our Florida Aviati
 on Network Facebook Page at http://www.facebook.com/FloridaAviationNet
 work . The latest show may be heard by scrolling to the bottom of the 
 list. You may click on the listed links to \"Managing Safety\" digital
  broadcast any time of day or night on your computer or portable devic
 e. Click on the blue link for computer or click on the iPod icon for d
 igital device. \"Managing Safety\" is also available on iTunes.  The 
 latest is show is 10/15/2012 Managing Safety number 12101501.\nHost Jo
 hn Mahany interviews three presenters during EAA AirVenture 2012 in OS
 H.  First, he speaks with Mark Korin, President of DepotStar, about t
 heir Alpha Systems AOA product.  Next, he brings us Danny Carpenter o
 f King Air Nation and, finally, John talks to Clare McEwan from Air Sa
 faris International.\n\nFor more information visit http://myhangarchat
 .com/events/managing-safety-weekly-aviation-radio-show-938
DTSTART;TZID=America/Chicago:20121015T000000
DTEND;TZID=America/Chicago:20121029T235900
CATEGORIES:weekly, aviation, radio, show
LOCATION:USA, World Wide Internet
WEBSITE:http://faaproductionstudios.com/ ,  http://www.facebook.com/Fl
 oridaAviationNetwork
URL:http://faaproductionstudios.com/ ,  http://www.facebook.com/Florid
 aAviationNetwork
CONTACT:407-719-6335
ORGANIZER;CN="Obie S. Young":http://myhangarchat.com/profile/ObieSYoun
 g
ATTACH;FMTTYPE="image/jpeg":http://storage.ning.com/topology/rest/1.0/
 file/get/1688391916?profile=original
ATTENDEE;ROLE=REQ-PARTICIPANT;PARTSTAT=ACCEPTED;RSVP=TRUE;CN="Obie S. 
 Young":http://myhangarchat.com/profile/ObieSYoung
END:VEVENT
END:VCALENDAR
