BEGIN:VCALENDAR
PRODID:NingEventWidget-v1
VERSION:2.0
METHOD:PUBLISH
BEGIN:VTIMEZONE
TZID:America/Chicago
X-LIC-LOCATION:America/Chicago
BEGIN:DAYLIGHT
TZOFFSETFROM:-0600
TZOFFSETTO:-0500
TZNAME:CDT
DTSTART:19700308T020000
RRULE:FREQ=YEARLY;BYMONTH=3;BYDAY=2SU
END:DAYLIGHT
BEGIN:STANDARD
TZOFFSETFROM:-0500
TZOFFSETTO:-0600
TZNAME:CST
DTSTART:19701101T020000
RRULE:FREQ=YEARLY;BYMONTH=11;BYDAY=1SU
END:STANDARD
END:VTIMEZONE
BEGIN:VEVENT
UID:6398453:Event:134050
DTSTAMP:20260421T074627Z
SUMMARY:Managing Safety - Weekly Aviation Radio Show
DESCRIPTION:Managing Safety\" is a Podcast On Demand. It is developed
  weekly and past shows are archived. Go to our studio website at: ht
 tp://www.floridaaviationnetwork.com/ and then on the \"Managing Safe
 ty\" icon in the middle of the page.  You may click on the listed li
 nks to \"Managing Safety\" digital broadcast any time of day or night 
 on your computer or portable device. \"Managing Safety\" is also avail
 able on iTunes.  The latest is show is 07/08/2013 Managing Safety nu
 mber 13070801.\nFrom the Howard Hughes exhibit in the Florida Air Muse
 um at SUN ‘n FUN 2013, Rich Weber interviews John Leenhouts, Preside
 nt about the annual super event.  \n\nFor more information visit http
 ://myhangarchat.com/events/managing-safety-weekly-aviation-radio-show-
 947
DTSTART;TZID=America/Chicago:20130708T000000
DTEND;TZID=America/Chicago:20130722T235900
CATEGORIES:weekly, radio, show
LOCATION:USA World Wide Internet
WEBSITE:http://www.floridaaviationnetwork.com
URL:http://www.floridaaviationnetwork.com
CONTACT:407-719-6335
ORGANIZER;CN="Obie S. Young":http://myhangarchat.com/profile/ObieSYoun
 g
ATTACH;FMTTYPE="image/jpeg":http://storage.ning.com/topology/rest/1.0/
 file/get/1688401084?profile=original
ATTENDEE;ROLE=REQ-PARTICIPANT;PARTSTAT=ACCEPTED;RSVP=TRUE;CN="Obie S. 
 Young":http://myhangarchat.com/profile/ObieSYoung
END:VEVENT
END:VCALENDAR
