BEGIN:VCALENDAR
PRODID:NingEventWidget-v1
VERSION:2.0
METHOD:PUBLISH
BEGIN:VTIMEZONE
TZID:America/Chicago
X-LIC-LOCATION:America/Chicago
BEGIN:DAYLIGHT
TZOFFSETFROM:-0600
TZOFFSETTO:-0500
TZNAME:CDT
DTSTART:19700308T020000
RRULE:FREQ=YEARLY;BYMONTH=3;BYDAY=2SU
END:DAYLIGHT
BEGIN:STANDARD
TZOFFSETFROM:-0500
TZOFFSETTO:-0600
TZNAME:CST
DTSTART:19701101T020000
RRULE:FREQ=YEARLY;BYMONTH=11;BYDAY=1SU
END:STANDARD
END:VTIMEZONE
BEGIN:VEVENT
UID:6398453:Event:117995
DTSTAMP:20260423T135954Z
SUMMARY:\"Managing Safety\" Weekly Aviation Radio Show
DESCRIPTION:\"Managing Safety\" is a Podcast On Demand. It is develope
 d weekly and past shows are archived. Go to our studio  website at: h
 ttp://faaproductionstudios.com/  and then click on the \"Managing Saf
 ety\" icon in the middle of the page. Or find it on our Florida Aviat
 ion Network Facebook Page at http://www.facebook.com/FloridaAviationNe
 twork . The latest show may be heard by scrolling to the bottom of t
 he list. You may click on the listed links to \"Managing Safety\" digi
 tal broadcast any time of day or night on your computer or portable de
 vice. Click on the blue link for computer or click on the iPod icon fo
 r digital device. \"Managing Safety\" is also available on iTunes - se
 arch in the Podcast general menu or in the Aviation Podcast section. T
 he latest is show is 10/01/2012 Managing Safety number 12100101.\nHost
  Rich Tillery interviews Lee Louderback of Stallion 51, P-51 flight s
 chool in Kissimmee, Fl.  This show was recorded live at Sun 'n Fun Ma
 rch 30, 2012. \n\nFor more information visit http://myhangarchat.com/
 events/managing-safety-weekly-aviation-radio-show-982
DTSTART;TZID=America/Chicago:20121001T000000
DTEND;TZID=America/Chicago:20121015T235900
CATEGORIES:weekly, aviation, radio, show
LOCATION:USA, World Wide Internet
WEBSITE:http://www:faaproductionstudios.com
URL:http://www:faaproductionstudios.com
CONTACT:407-719-6335
ORGANIZER;CN="Obie S. Young":http://myhangarchat.com/profile/ObieSYoun
 g
ATTACH;FMTTYPE="image/jpeg":http://storage.ning.com/topology/rest/1.0/
 file/get/1688390610?profile=original
ATTENDEE;ROLE=REQ-PARTICIPANT;PARTSTAT=ACCEPTED;RSVP=TRUE;CN="Obie S. 
 Young":http://myhangarchat.com/profile/ObieSYoung
END:VEVENT
END:VCALENDAR
