BEGIN:VCALENDAR
PRODID:NingEventWidget-v1
VERSION:2.0
METHOD:PUBLISH
BEGIN:VTIMEZONE
TZID:America/Chicago
X-LIC-LOCATION:America/Chicago
BEGIN:DAYLIGHT
TZOFFSETFROM:-0600
TZOFFSETTO:-0500
TZNAME:CDT
DTSTART:19700308T020000
RRULE:FREQ=YEARLY;BYMONTH=3;BYDAY=2SU
END:DAYLIGHT
BEGIN:STANDARD
TZOFFSETFROM:-0500
TZOFFSETTO:-0600
TZNAME:CST
DTSTART:19701101T020000
RRULE:FREQ=YEARLY;BYMONTH=11;BYDAY=1SU
END:STANDARD
END:VTIMEZONE
BEGIN:VEVENT
UID:6398453:Event:130854
DTSTAMP:20260421T073616Z
SUMMARY:\"Managing Safety\" Weekly Aviation Radio Show
DESCRIPTION:Managing Safety\" is a Podcast On Demand. It is developed 
 weekly and past shows are archived. Go to our studio  website at: htt
 p://www.floridaaviationnetwork.com/ and then click on the \"Managing S
 afety\" icon in the middle of the page. Or find it on our Florida Avia
 tion Network Facebook Page at http://www.facebook.com/FloridaAviationN
 etwork .  You may click on the listed links to \"Managing Safety\" di
 gital broadcast any time of day or night on your computer or portable 
 device. Click on the blue link for computer or click on the iPod icon 
 for digital device. \"Managing Safety\" is also available on iTunes. 
  The latest is show is 05/06/2013 Managing Safety number 13050601.\nFr
 om the Howard Hughs exhibit in the Florida Air Museum at Sun 'n Fun 20
 13,  \nManaging Safety\" is a Podcast On Demand. It is developed week
 ly and past shows are archived. Go to our studio  website at: http://
 www.floridaaviationnetwork.com/ and then click on the \"Managing Safet
 y\" icon in the middle of the page. Or find it on our Florida Aviation
  Network Facebook Page at http://www.facebook.com/FloridaAviationNetwo
 rk .  You may click on the listed links to \"Managing Safety\" digita
 l broadcast any time of day or night on your computer or portable devi
 ce. Click on the blue link for computer or click on the iPod icon for 
 digital device. \"Managing Safety\" is also available on iTunes.  The
  latest is show is 04/29/2013 Managing Safety number 13042901.\nFrom t
 he Howard Hughs exhibit in the Florida Air Museum at Sun 'n Fun 2013, 
 Diego Alfonso and Michelle Cassidy interview Sun 'n Fun's Executive 
 Director of Education, Lori Bradner.\n\nFor more information visit htt
 p://myhangarchat.com/events/managing-safety-weekly-aviation-radio-show
 -983
DTSTART;TZID=America/Chicago:20130506T000000
DTEND;TZID=America/Chicago:20130520T235900
CATEGORIES:weekly, aviation, radio, show
LOCATION:USA, World Wide Internet
WEBSITE:http://http: //www: FloridaAviationNetwork.com /  http://www.f
 acebook.com/FloridaAviationNetwork
URL:http://http: //www: FloridaAviationNetwork.com /  http://www.faceb
 ook.com/FloridaAviationNetwork
CONTACT:407-719-6335
ORGANIZER;CN="Obie S. Young":http://myhangarchat.com/profile/ObieSYoun
 g
ATTACH;FMTTYPE="image/jpeg":http://storage.ning.com/topology/rest/1.0/
 file/get/1688400821?profile=original
ATTENDEE;ROLE=REQ-PARTICIPANT;PARTSTAT=ACCEPTED;RSVP=TRUE;CN="Obie S. 
 Young":http://myhangarchat.com/profile/ObieSYoung
END:VEVENT
END:VCALENDAR
