BEGIN:VCALENDAR
PRODID:NingEventWidget-v1
VERSION:2.0
METHOD:PUBLISH
BEGIN:VTIMEZONE
TZID:America/Chicago
X-LIC-LOCATION:America/Chicago
BEGIN:DAYLIGHT
TZOFFSETFROM:-0600
TZOFFSETTO:-0500
TZNAME:CDT
DTSTART:19700308T020000
RRULE:FREQ=YEARLY;BYMONTH=3;BYDAY=2SU
END:DAYLIGHT
BEGIN:STANDARD
TZOFFSETFROM:-0500
TZOFFSETTO:-0600
TZNAME:CST
DTSTART:19701101T020000
RRULE:FREQ=YEARLY;BYMONTH=11;BYDAY=1SU
END:STANDARD
END:VTIMEZONE
BEGIN:VEVENT
UID:6398453:Event:133937
DTSTAMP:20260421T062206Z
SUMMARY:Managing Safety - Weekly Aviation Radio Show
DESCRIPTION:Managing Safety\" is a Podcast On Demand. It is developed
  weekly and past shows are archived. Go to our studio  website at: h
 ttp://www.floridaaviationnetwork.com/ and then on the \"Managing Saf
 ety\" icon in the middle of the page.\nYou may click on the listed li
 nks to \"Managing Safety\" digital broadcast any time of day or night 
 on your computer or portable device. Click on the blue link for comput
 er or click on the iPod icon for digital device. \"Managing Safety\" i
 s also available on iTunes.  The latest is show is 07/01/2013 Managi
 ng Safety number 13070101.\nFrom the Howard Hughes exhibit in the Flor
 ida Air Museum at Sun 'n Fun 2013, Diego Alfonso interviews Tom & Mary
  Jane Evans with Simcom.  \n\nFor more information visit http://myhan
 garchat.com/events/managing-safety
DTSTART;TZID=America/Chicago:20130701T000000
DTEND;TZID=America/Chicago:20130715T235900
CATEGORIES:weekly, radio, show
LOCATION:USA World Wide Internet
WEBSITE:http://www.floridaaviationnetwork.com/
URL:http://www.floridaaviationnetwork.com/
CONTACT:407-719-6335
ORGANIZER;CN="Obie S. Young":http://myhangarchat.com/profile/ObieSYoun
 g
ATTACH;FMTTYPE="image/jpeg":http://storage.ning.com/topology/rest/1.0/
 file/get/1688401936?profile=original
ATTENDEE;ROLE=REQ-PARTICIPANT;PARTSTAT=ACCEPTED;RSVP=TRUE;CN="Obie S. 
 Young":http://myhangarchat.com/profile/ObieSYoung
END:VEVENT
END:VCALENDAR
