BEGIN:VCALENDAR
PRODID:NingEventWidget-v1
VERSION:2.0
METHOD:PUBLISH
BEGIN:VTIMEZONE
TZID:America/Chicago
X-LIC-LOCATION:America/Chicago
BEGIN:DAYLIGHT
TZOFFSETFROM:-0600
TZOFFSETTO:-0500
TZNAME:CDT
DTSTART:19700308T020000
RRULE:FREQ=YEARLY;BYMONTH=3;BYDAY=2SU
END:DAYLIGHT
BEGIN:STANDARD
TZOFFSETFROM:-0500
TZOFFSETTO:-0600
TZNAME:CST
DTSTART:19701101T020000
RRULE:FREQ=YEARLY;BYMONTH=11;BYDAY=1SU
END:STANDARD
END:VTIMEZONE
BEGIN:VEVENT
UID:6398453:Event:128494
DTSTAMP:20260421T090942Z
SUMMARY:Mustangs & Mustangs
DESCRIPTION:Who doesn't love a Mustang, whether it's a Ford Mustang fr
 om any era or a P-51 World War II fighter? This annual spring car and 
 vintage airplane show, now in its 16th year, is the only Mustang event
  that showcases both restored P-51 Mustang aircraft and Ford Mustang a
 utos of all eras, ages and styles. Show cars compete for a \"People's 
 Choice\" award and the rare, restored P-51 fighters perform live aeria
 l demonstrations. Children's activities, entertainment and photo oppor
 tunities are part of the special event, which each year attracts new f
 ans with a shared passion for the restoration of aircraft and automobi
 les. Fantasy of Flight general admission is required to attend this ev
 ent. Parking is $5.00.\n\nFor more information visit http://myhangarch
 at.com/events/mustangs-mustangs-1
DTSTART;TZID=America/Chicago:20130413T100000
DTEND;TZID=America/Chicago:20130413T170000
CATEGORIES:car, and, vintage, airplane, show
LOCATION:Fantasy of Flight
WEBSITE:
URL:
CONTACT:(863) 984-3500
ORGANIZER;CN="Fantasy of Flight":http://myhangarchat.com/profile/Fanta
 syofFlight
ATTACH;FMTTYPE="image/jpeg":http://storage.ning.com/topology/rest/1.0/
 file/get/1688400312?profile=original
ATTENDEE;ROLE=REQ-PARTICIPANT;PARTSTAT=ACCEPTED;RSVP=TRUE;CN="Fantasy 
 of Flight":http://myhangarchat.com/profile/FantasyofFlight
END:VEVENT
END:VCALENDAR
