BEGIN:VCALENDAR
PRODID:NingEventWidget-v1
VERSION:2.0
METHOD:PUBLISH
BEGIN:VTIMEZONE
TZID:America/Chicago
X-LIC-LOCATION:America/Chicago
BEGIN:DAYLIGHT
TZOFFSETFROM:-0600
TZOFFSETTO:-0500
TZNAME:CDT
DTSTART:19700308T020000
RRULE:FREQ=YEARLY;BYMONTH=3;BYDAY=2SU
END:DAYLIGHT
BEGIN:STANDARD
TZOFFSETFROM:-0500
TZOFFSETTO:-0600
TZNAME:CST
DTSTART:19701101T020000
RRULE:FREQ=YEARLY;BYMONTH=11;BYDAY=1SU
END:STANDARD
END:VTIMEZONE
BEGIN:VEVENT
UID:6398453:Event:118581
DTSTAMP:20260423T004514Z
SUMMARY:NBAA 2012
DESCRIPTION:Celebrating its 85th year of leadership and innovation, Ph
 illips 66® Aviation and 15 of its branded dealers will land in Orlan
 do, October 30-November 1 for NBAA 2012, considered by many to be the 
 top event for aviation industry professionals, thought leaders and com
 panies.\n\nFor more information visit http://myhangarchat.com/events/n
 baa-2012
DTSTART;TZID=America/Chicago:20121030T000000
DTEND;TZID=America/Chicago:20121101T235900
CATEGORIES:tradeshow
LOCATION:Booth #4560
WEBSITE:http://www.phillips66aviation.com/events.aspx
URL:http://www.phillips66aviation.com/events.aspx
CONTACT:
ORGANIZER;CN="Phillips 66 Aviation":http://myhangarchat.com/profile/Ph
 illips66Aviation
ATTACH;FMTTYPE="image/jpeg":
ATTENDEE;ROLE=REQ-PARTICIPANT;PARTSTAT=ACCEPTED;RSVP=TRUE;CN="Phillips
  66 Aviation":http://myhangarchat.com/profile/Phillips66Aviation
ATTENDEE;ROLE=REQ-PARTICIPANT;PARTSTAT=TENTATIVE;RSVP=TRUE;CN="Christo
 pher Nguyen":http://myhangarchat.com/profile/ChristopherNguyen
END:VEVENT
END:VCALENDAR
