BEGIN:VCALENDAR
PRODID:NingEventWidget-v1
VERSION:2.0
METHOD:PUBLISH
BEGIN:VTIMEZONE
TZID:America/Chicago
X-LIC-LOCATION:America/Chicago
BEGIN:DAYLIGHT
TZOFFSETFROM:-0600
TZOFFSETTO:-0500
TZNAME:CDT
DTSTART:19700308T020000
RRULE:FREQ=YEARLY;BYMONTH=3;BYDAY=2SU
END:DAYLIGHT
BEGIN:STANDARD
TZOFFSETFROM:-0500
TZOFFSETTO:-0600
TZNAME:CST
DTSTART:19701101T020000
RRULE:FREQ=YEARLY;BYMONTH=11;BYDAY=1SU
END:STANDARD
END:VTIMEZONE
BEGIN:VEVENT
UID:6398453:Event:114818
DTSTAMP:20260423T191751Z
SUMMARY:Reno Air Races 2012
DESCRIPTION:Whether you've been a loyal air race fan for the better pa
 rt of two decades or have yet to be reeled in, we invite you to experi
 ence the \"World's Fastest Motorsport\" first hand in September at the
  Reno Stead Airport.\n\nFor more information visit http://myhangarchat
 .com/events/reno-air-races-2012
DTSTART;TZID=America/Chicago:20120912T000000
DTEND;TZID=America/Chicago:20120916T235900
CATEGORIES:air, race, "&", show
LOCATION:Reno NV
WEBSITE:http://airrace.org/at_the_races/
URL:http://airrace.org/at_the_races/
CONTACT:407-719-6335
ORGANIZER;CN="Obie S. Young":http://myhangarchat.com/profile/ObieSYoun
 g
ATTACH;FMTTYPE="image/jpeg":http://storage.ning.com/topology/rest/1.0/
 file/get/1688387273?profile=original
ATTENDEE;ROLE=REQ-PARTICIPANT;PARTSTAT=ACCEPTED;RSVP=TRUE;CN="Obie S. 
 Young":http://myhangarchat.com/profile/ObieSYoung
END:VEVENT
END:VCALENDAR
