BEGIN:VCALENDAR
PRODID:NingEventWidget-v1
VERSION:2.0
METHOD:PUBLISH
BEGIN:VTIMEZONE
TZID:America/Chicago
X-LIC-LOCATION:America/Chicago
BEGIN:DAYLIGHT
TZOFFSETFROM:-0600
TZOFFSETTO:-0500
TZNAME:CDT
DTSTART:19700308T020000
RRULE:FREQ=YEARLY;BYMONTH=3;BYDAY=2SU
END:DAYLIGHT
BEGIN:STANDARD
TZOFFSETFROM:-0500
TZOFFSETTO:-0600
TZNAME:CST
DTSTART:19701101T020000
RRULE:FREQ=YEARLY;BYMONTH=11;BYDAY=1SU
END:STANDARD
END:VTIMEZONE
BEGIN:VEVENT
UID:6398453:Event:126166
DTSTAMP:20260421T123630Z
SUMMARY:Run for the Angels 5K
DESCRIPTION:Run for the Angels 5K Event April 5, 2013 Orlando\nFriday 
 April 5, 2013 from 6:00 PM to 8:00 PM EDTThe Orlando Executive Airport
 , is having a 5K run/walk April 5th to benefit Angel Flight Southeast!
  We are limiting the 5K Run to the first 250 runners/walkers that want
  to sign up and support Angel Flight SE. ! A unique run on taxiways an
 d a runway to support a great cause!Greater Orlando Aviation Authority
  Community Bldg.\n\nFor more information visit http://myhangarchat.com
 /events/run-for-the-angels-5k
DTSTART;TZID=America/Chicago:20130405T180000
DTEND;TZID=America/Chicago:20130405T200000
CATEGORIES:fundraiser
LOCATION:Orlando Executive Airport (KORL)
WEBSITE:http://events.r20.constantcontact.com/register/event?oeidk=a07
 e6szk399c93a4a21
URL:http://events.r20.constantcontact.com/register/event?oeidk=a07e6sz
 k399c93a4a21
CONTACT:(352) 326-0761 x1500
ORGANIZER;CN="Steve Purello":http://myhangarchat.com/profile/StevePure
 llo
ATTACH;FMTTYPE="image/jpeg":http://storage.ning.com/topology/rest/1.0/
 file/get/1688397616?profile=original
ATTENDEE;ROLE=REQ-PARTICIPANT;PARTSTAT=ACCEPTED;RSVP=TRUE;CN="Steve Pu
 rello":http://myhangarchat.com/profile/StevePurello
END:VEVENT
END:VCALENDAR
