BEGIN:VCALENDAR
PRODID:NingEventWidget-v1
VERSION:2.0
METHOD:PUBLISH
BEGIN:VTIMEZONE
TZID:America/Chicago
X-LIC-LOCATION:America/Chicago
BEGIN:DAYLIGHT
TZOFFSETFROM:-0600
TZOFFSETTO:-0500
TZNAME:CDT
DTSTART:19700308T020000
RRULE:FREQ=YEARLY;BYMONTH=3;BYDAY=2SU
END:DAYLIGHT
BEGIN:STANDARD
TZOFFSETFROM:-0500
TZOFFSETTO:-0600
TZNAME:CST
DTSTART:19701101T020000
RRULE:FREQ=YEARLY;BYMONTH=11;BYDAY=1SU
END:STANDARD
END:VTIMEZONE
BEGIN:VEVENT
UID:6398453:Event:117622
DTSTAMP:20260423T045438Z
SUMMARY:SERFI - Southeast Regional Fly-In
DESCRIPTION:http://www.serfi.org\n\nFor more information visit http://
 myhangarchat.com/events/serfi-southeast-regional-fly-in
DTSTART;TZID=America/Chicago:20121026T000000
DTEND;TZID=America/Chicago:20121028T235900
CATEGORIES:fly-in
LOCATION:Evergreen, AL  GZH
WEBSITE:
URL:
CONTACT:
ORGANIZER;CN="Larry Standifer":http://myhangarchat.com/profile/LarrySt
 andifer927
ATTACH;FMTTYPE="image/jpeg":
ATTENDEE;ROLE=REQ-PARTICIPANT;PARTSTAT=ACCEPTED;RSVP=TRUE;CN="Larry St
 andifer":http://myhangarchat.com/profile/LarryStandifer927
END:VEVENT
END:VCALENDAR
