BEGIN:VCALENDAR
PRODID:NingEventWidget-v1
VERSION:2.0
METHOD:PUBLISH
BEGIN:VTIMEZONE
TZID:America/Chicago
X-LIC-LOCATION:America/Chicago
BEGIN:DAYLIGHT
TZOFFSETFROM:-0600
TZOFFSETTO:-0500
TZNAME:CDT
DTSTART:19700308T020000
RRULE:FREQ=YEARLY;BYMONTH=3;BYDAY=2SU
END:DAYLIGHT
BEGIN:STANDARD
TZOFFSETFROM:-0500
TZOFFSETTO:-0600
TZNAME:CST
DTSTART:19701101T020000
RRULE:FREQ=YEARLY;BYMONTH=11;BYDAY=1SU
END:STANDARD
END:VTIMEZONE
BEGIN:VEVENT
UID:6398453:Event:115110
DTSTAMP:20260423T202948Z
SUMMARY:South Carolina Branch Tournament of Angels
DESCRIPTION:Angel Flight SC Branch's 2nd Annual Golf Tournament is in
  full swing for 2012, thanks to the generosity of Angels like you! Tee
  up for our 2nd Annual South Carolina Tournament of Angels, sponsored 
 by Joseph M. Still Burn Centers, Inc., and support Angel Flight. This
  means every shot you take helps provide free air transportation to an
 yone who needs specialized medical care. By supporting the tournament,
  you can help us fly patients from, to and through Georgia, Alabama, M
 ississippi, North Carolina, South Carolina and Tennessee. Be sure to r
 eserve your sponsorship today. You will never feel more rewarded from 
 supporting a game of golf!\n \nFor more details on sponsorship opport
 unities, or to register online visit http://www.angelflightsoars.org/
 tournament_of_angels_splash.asp\n\nFor more information visit http://m
 yhangarchat.com/events/south-carolina-branch-tournament-of-angels
DTSTART;TZID=America/Chicago:20120917T000000
DTEND;TZID=America/Chicago:20120917T235900
CATEGORIES:golf, tournament
LOCATION:The Links at Stoney Point Golf Course Greenwood, SC
WEBSITE:
URL:
CONTACT:
ORGANIZER;CN="Angel Flight Soars":http://myhangarchat.com/profile/Ange
 lFlightSoars
ATTACH;FMTTYPE="image/jpeg":http://storage.ning.com/topology/rest/1.0/
 file/get/1688386664?profile=original
ATTENDEE;ROLE=REQ-PARTICIPANT;PARTSTAT=ACCEPTED;RSVP=TRUE;CN="Angel Fl
 ight Soars":http://myhangarchat.com/profile/AngelFlightSoars
END:VEVENT
END:VCALENDAR
