BEGIN:VCALENDAR
PRODID:NingEventWidget-v1
VERSION:2.0
METHOD:PUBLISH
BEGIN:VTIMEZONE
TZID:America/Chicago
X-LIC-LOCATION:America/Chicago
BEGIN:DAYLIGHT
TZOFFSETFROM:-0600
TZOFFSETTO:-0500
TZNAME:CDT
DTSTART:19700308T020000
RRULE:FREQ=YEARLY;BYMONTH=3;BYDAY=2SU
END:DAYLIGHT
BEGIN:STANDARD
TZOFFSETFROM:-0500
TZOFFSETTO:-0600
TZNAME:CST
DTSTART:19701101T020000
RRULE:FREQ=YEARLY;BYMONTH=11;BYDAY=1SU
END:STANDARD
END:VTIMEZONE
BEGIN:VEVENT
UID:6398453:Event:126392
DTSTAMP:20260421T105356Z
SUMMARY:SUN 'n FUN 2013
DESCRIPTION:The SUN 'n FUN Board of Directors , staff, and volunteers 
 are deep in the planning stages for the 39th Annual SUN 'n FUN Interna
 tional Fly-In & Expo being held April 9-14, 2013. As an anticipated 20
 0,000 visitors convene throughout the week on 2,200 acres dedicated to
  the event, the Lakeland Linder Airport will become the busiest airpor
 t in the world. The SUN 'n FUN Fly-In is Florida's largest convention 
 and independent studies have recently identified it as having a $64,00
 0,000 economic impact on the I-4 corridor. It is designed to offer so
 mething for everyone.   Airshows are scheduled each afternoon and eve
 ning shows with illumination and pyrotechnics for the first time are o
 ccuring both Friday AND Saturday nights. Aircraft of all shapes and si
 zes over Lakeland offer thrills by the USAF Thunderbirds and the civil
 ian Black Diamonds jet teams to wing-walkers and aerial acrobatics. Te
 am Aerodynamix offers upwards of 6 planes flying in formations and aud
 iences feel a part of the show as they witness incredible precision. S
 eaplanes entertain crowds at Fantasy of Flight on Lake Agnes on Thursd
 ay, April 11th. To learn more about all the events and performers sche
 duled, visit the SUN 'n FUN Fly-In tab. Plan to be there when the skyd
 ivers arrive with the American Flag and watch for the Batcopter and Ot
 to, the Performing Helicopter.  A Kid Zone, forums and workshops, as w
 ell as hands-on sessions afford youth of all ages full days of activit
 y and learning experiences about the world of aviation. Food vendors a
 nd evening programs offer entertainment to daily visitors as well as c
 ampers on the field. \"Casino Night\" is new for 2013. Historic displa
 ys for warbirds and vintage aircraft are complemented by more than 500
  exhibitors with modern options for aviators. Recreational and travel 
 options for all round out the vendor offerings. A SUN 'n FUN Dining Gu
 ide is being created so visitors can explore local options or they are
  welcome to try Karaoke night and 30 food vendors on the grounds daily
 .   Forms to request media credentials and press conferences are avai
 lable atwww.sun-n-fun.org. In addition to the SUN 'n FUN website, info
 rmation is available on Facebook (Like Us too) or Twitter. Videos prod
 uced to explain the year-round mission of SUN 'n FUN and prior event f
 ootage is available atwww.youtube.com/sunnfuninc.   Please note: all 
 schedules on the website are subject to change and updated weekly.\n\n
 For more information visit http://myhangarchat.com/events/sun-n-fun-20
 13
DTSTART;TZID=America/Chicago:20130409T000000
DTEND;TZID=America/Chicago:20130414T235900
CATEGORIES:airshow
LOCATION:Lakeland Linder Regional Airport
WEBSITE:http://www.sun-n-fun.org/
URL:http://www.sun-n-fun.org/
CONTACT:
ORGANIZER;CN="SUN 'n FUN":http://myhangarchat.com/profile/SUNnFUN
ATTACH;FMTTYPE="image/jpeg":http://storage.ning.com/topology/rest/1.0/
 file/get/1688397676?profile=original
ATTENDEE;ROLE=REQ-PARTICIPANT;PARTSTAT=ACCEPTED;RSVP=TRUE;CN="Obie S. 
 Young":http://myhangarchat.com/profile/ObieSYoung
ATTENDEE;ROLE=REQ-PARTICIPANT;PARTSTAT=ACCEPTED;RSVP=TRUE;CN="SUN 'n F
 UN":http://myhangarchat.com/profile/SUNnFUN
END:VEVENT
END:VCALENDAR
