BEGIN:VCALENDAR
PRODID:NingEventWidget-v1
VERSION:2.0
METHOD:PUBLISH
BEGIN:VTIMEZONE
TZID:America/Chicago
X-LIC-LOCATION:America/Chicago
BEGIN:DAYLIGHT
TZOFFSETFROM:-0600
TZOFFSETTO:-0500
TZNAME:CDT
DTSTART:19700308T020000
RRULE:FREQ=YEARLY;BYMONTH=3;BYDAY=2SU
END:DAYLIGHT
BEGIN:STANDARD
TZOFFSETFROM:-0500
TZOFFSETTO:-0600
TZNAME:CST
DTSTART:19701101T020000
RRULE:FREQ=YEARLY;BYMONTH=11;BYDAY=1SU
END:STANDARD
END:VTIMEZONE
BEGIN:VEVENT
UID:6398453:Event:118672
DTSTAMP:20260423T032853Z
SUMMARY:The Flying FOOLZ Halloween Breakfast Fly-In
DESCRIPTION:Menu:  Eggs, pancakes, sausage, cheese grits, fresh fruit
 , coffee, OJ and more surprises.  50/50, Young Eagles flights\nDonati
 on:  $5\nFly-in following ours at Bob White Airport is just 30 miles 
 away. Could make it for lunch easily.  \n\n\nFor more information vis
 it http://myhangarchat.com/events/the-flying-foolz-halloween-breakfast
 -fly-in
DTSTART;TZID=America/Chicago:20121027T080000
DTEND;TZID=America/Chicago:20121027T110000
CATEGORIES:fly-in
LOCATION:Flying W AirRanch, Bushnell, FL  (9FL1)
WEBSITE:
URL:
CONTACT:4077184251
ORGANIZER;CN="Barbara Flynn":http://myhangarchat.com/profile/BarbaraFl
 ynn
ATTACH;FMTTYPE="image/jpeg":http://storage.ning.com/topology/rest/1.0/
 file/get/1688392557?profile=original
ATTENDEE;ROLE=REQ-PARTICIPANT;PARTSTAT=ACCEPTED;RSVP=TRUE;CN="Barbara 
 Flynn":http://myhangarchat.com/profile/BarbaraFlynn
END:VEVENT
END:VCALENDAR
