BEGIN:VCALENDAR
PRODID:NingEventWidget-v1
VERSION:2.0
METHOD:PUBLISH
BEGIN:VTIMEZONE
TZID:America/Chicago
X-LIC-LOCATION:America/Chicago
BEGIN:DAYLIGHT
TZOFFSETFROM:-0600
TZOFFSETTO:-0500
TZNAME:CDT
DTSTART:19700308T020000
RRULE:FREQ=YEARLY;BYMONTH=3;BYDAY=2SU
END:DAYLIGHT
BEGIN:STANDARD
TZOFFSETFROM:-0500
TZOFFSETTO:-0600
TZNAME:CST
DTSTART:19701101T020000
RRULE:FREQ=YEARLY;BYMONTH=11;BYDAY=1SU
END:STANDARD
END:VTIMEZONE
BEGIN:VEVENT
UID:6398453:Event:119489
DTSTAMP:20260422T183053Z
SUMMARY:When Pigs Fly South BBQ Challenge
DESCRIPTION:It’s a “no admission” event and everyone is welcome!
  Walk around to view aircraft, show cars, show car games, motorcycles,
  food & trinket vendors. Our BBQ challenge event promises to lead us t
 o the title of “World’s Largest Fly-In BBQ.” You’ll want to sa
 y “you were there when...” It will be great fun to start your holi
 day season and make new friends.For more information: http://www.sun-
 n-fun.org/PigsFlySouth.aspx\n\nFor more information visit http://myhan
 garchat.com/events/when-pigs-fly-south-bbq-challenge
DTSTART;TZID=America/Chicago:20121201T110000
DTEND;TZID=America/Chicago:20121201T190000
CATEGORIES:sun, "'n", fun, bbq
LOCATION:SUN 'n FUN
WEBSITE:http://www.sun-n-fun.org/PigsFlySouth.aspx
URL:http://www.sun-n-fun.org/PigsFlySouth.aspx
CONTACT:(863) 644-2431
ORGANIZER;CN="SUN 'n FUN":http://myhangarchat.com/profile/SUNnFUN
ATTACH;FMTTYPE="image/jpeg":http://storage.ning.com/topology/rest/1.0/
 file/get/1688394510?profile=original
ATTENDEE;ROLE=REQ-PARTICIPANT;PARTSTAT=ACCEPTED;RSVP=TRUE;CN="SUN 'n F
 UN":http://myhangarchat.com/profile/SUNnFUN
END:VEVENT
END:VCALENDAR
